Workbook

Sheet Nennformular 1.BNWL 2016-17
A7: Nennformular | C7: 1. BNWL 2016/2017 | I7: Neusiedl am See, 20.11.2016
A9: Name | B9: Geburtsdatum | C9: Verein | D9: Geb. Jahr | E9: M/W | F9: Alters-klasse | G9: 3. BNWL 2015/2016
A10: (Nachname Vorname) | G10: Gruppe | H10: Platz | I10: Gesamt
B11: =IFERROR(VLOOKUP($A11,Spieler!$A$11:$I$200,2,FALSE),"") | C11: =IFERROR(VLOOKUP($A11,Spieler!$A$11:$I$200,3,FALSE),"") | D11: =IF(B11="","",YEAR(B11)) | E11: =IFERROR(VLOOKUP($A11,Spieler!$A$11:$I$200,5,FALSE),"") | F11: =IFERROR(VLOOKUP($A11,Spieler!$A$11:$I$200,6,FALSE),"") | G11: =IFERROR(VLOOKUP($A11,Spieler!$A$11:$I$200,7,FALSE),"") | H11: =IFERROR(VLOOKUP($A11,Spieler!$A$11:$I$200,8,FALSE),"") | I11: =IFERROR(VLOOKUP($A11,Spieler!$A$11:$I$200,9,FALSE),"")
B12: =IFERROR(VLOOKUP($A12,Spieler!$A$11:$I$200,2,FALSE),"") | C12: =IFERROR(VLOOKUP($A12,Spieler!$A$11:$I$200,3,FALSE),"") | D12: =IF(B12="","",YEAR(B12)) | E12: =IFERROR(VLOOKUP($A12,Spieler!$A$11:$I$200,5,FALSE),"") | F12: =IFERROR(VLOOKUP($A12,Spieler!$A$11:$I$200,6,FALSE),"") | G12: =IFERROR(VLOOKUP($A12,Spieler!$A$11:$I$200,7,FALSE),"") | H12: =IFERROR(VLOOKUP($A12,Spieler!$A$11:$I$200,8,FALSE),"") | I12: =IFERROR(VLOOKUP($A12,Spieler!$A$11:$I$200,9,FALSE),"")
B13: =IFERROR(VLOOKUP($A13,Spieler!$A$11:$I$200,2,FALSE),"") | C13: =IFERROR(VLOOKUP($A13,Spieler!$A$11:$I$200,3,FALSE),"") | D13: =IF(B13="","",YEAR(B13)) | E13: =IFERROR(VLOOKUP($A13,Spieler!$A$11:$I$200,5,FALSE),"") | F13: =IFERROR(VLOOKUP($A13,Spieler!$A$11:$I$200,6,FALSE),"") | G13: =IFERROR(VLOOKUP($A13,Spieler!$A$11:$I$200,7,FALSE),"") | H13: =IFERROR(VLOOKUP($A13,Spieler!$A$11:$I$200,8,FALSE),"") | I13: =IFERROR(VLOOKUP($A13,Spieler!$A$11:$I$200,9,FALSE),"")
B14: =IFERROR(VLOOKUP($A14,Spieler!$A$11:$I$200,2,FALSE),"") | C14: =IFERROR(VLOOKUP($A14,Spieler!$A$11:$I$200,3,FALSE),"") | D14: =IF(B14="","",YEAR(B14)) | E14: =IFERROR(VLOOKUP($A14,Spieler!$A$11:$I$200,5,FALSE),"") | F14: =IFERROR(VLOOKUP($A14,Spieler!$A$11:$I$200,6,FALSE),"") | G14: =IFERROR(VLOOKUP($A14,Spieler!$A$11:$I$200,7,FALSE),"") | H14: =IFERROR(VLOOKUP($A14,Spieler!$A$11:$I$200,8,FALSE),"") | I14: =IFERROR(VLOOKUP($A14,Spieler!$A$11:$I$200,9,FALSE),"")
B15: =IFERROR(VLOOKUP($A15,Spieler!$A$11:$I$200,2,FALSE),"") | C15: =IFERROR(VLOOKUP($A15,Spieler!$A$11:$I$200,3,FALSE),"") | D15: =IF(B15="","",YEAR(B15)) | E15: =IFERROR(VLOOKUP($A15,Spieler!$A$11:$I$200,5,FALSE),"") | F15: =IFERROR(VLOOKUP($A15,Spieler!$A$11:$I$200,6,FALSE),"") | G15: =IFERROR(VLOOKUP($A15,Spieler!$A$11:$I$200,7,FALSE),"") | H15: =IFERROR(VLOOKUP($A15,Spieler!$A$11:$I$200,8,FALSE),"") | I15: =IFERROR(VLOOKUP($A15,Spieler!$A$11:$I$200,9,FALSE),"")
B16: =IFERROR(VLOOKUP($A16,Spieler!$A$11:$I$200,2,FALSE),"") | C16: =IFERROR(VLOOKUP($A16,Spieler!$A$11:$I$200,3,FALSE),"") | D16: =IF(B16="","",YEAR(B16)) | E16: =IFERROR(VLOOKUP($A16,Spieler!$A$11:$I$200,5,FALSE),"") | F16: =IFERROR(VLOOKUP($A16,Spieler!$A$11:$I$200,6,FALSE),"") | G16: =IFERROR(VLOOKUP($A16,Spieler!$A$11:$I$200,7,FALSE),"") | H16: =IFERROR(VLOOKUP($A16,Spieler!$A$11:$I$200,8,FALSE),"") | I16: =IFERROR(VLOOKUP($A16,Spieler!$A$11:$I$200,9,FALSE),"")
B17: =IFERROR(VLOOKUP($A17,Spieler!$A$11:$I$200,2,FALSE),"") | C17: =IFERROR(VLOOKUP($A17,Spieler!$A$11:$I$200,3,FALSE),"") | D17: =IF(B17="","",YEAR(B17)) | E17: =IFERROR(VLOOKUP($A17,Spieler!$A$11:$I$200,5,FALSE),"") | F17: =IFERROR(VLOOKUP($A17,Spieler!$A$11:$I$200,6,FALSE),"") | G17: =IFERROR(VLOOKUP($A17,Spieler!$A$11:$I$200,7,FALSE),"") | H17: =IFERROR(VLOOKUP($A17,Spieler!$A$11:$I$200,8,FALSE),"") | I17: =IFERROR(VLOOKUP($A17,Spieler!$A$11:$I$200,9,FALSE),"")
B18: =IFERROR(VLOOKUP($A18,Spieler!$A$11:$I$200,2,FALSE),"") | C18: =IFERROR(VLOOKUP($A18,Spieler!$A$11:$I$200,3,FALSE),"") | D18: =IF(B18="","",YEAR(B18)) | E18: =IFERROR(VLOOKUP($A18,Spieler!$A$11:$I$200,5,FALSE),"") | F18: =IFERROR(VLOOKUP($A18,Spieler!$A$11:$I$200,6,FALSE),"") | G18: =IFERROR(VLOOKUP($A18,Spieler!$A$11:$I$200,7,FALSE),"") | H18: =IFERROR(VLOOKUP($A18,Spieler!$A$11:$I$200,8,FALSE),"") | I18: =IFERROR(VLOOKUP($A18,Spieler!$A$11:$I$200,9,FALSE),"")
B19: =IFERROR(VLOOKUP($A19,Spieler!$A$11:$I$200,2,FALSE),"") | C19: =IFERROR(VLOOKUP($A19,Spieler!$A$11:$I$200,3,FALSE),"") | D19: =IF(B19="","",YEAR(B19)) | E19: =IFERROR(VLOOKUP($A19,Spieler!$A$11:$I$200,5,FALSE),"") | F19: =IFERROR(VLOOKUP($A19,Spieler!$A$11:$I$200,6,FALSE),"") | G19: =IFERROR(VLOOKUP($A19,Spieler!$A$11:$I$200,7,FALSE),"") | H19: =IFERROR(VLOOKUP($A19,Spieler!$A$11:$I$200,8,FALSE),"") | I19: =IFERROR(VLOOKUP($A19,Spieler!$A$11:$I$200,9,FALSE),"")
B20: =IFERROR(VLOOKUP($A20,Spieler!$A$11:$I$200,2,FALSE),"") | C20: =IFERROR(VLOOKUP($A20,Spieler!$A$11:$I$200,3,FALSE),"") | D20: =IF(B20="","",YEAR(B20)) | E20: =IFERROR(VLOOKUP($A20,Spieler!$A$11:$I$200,5,FALSE),"") | F20: =IFERROR(VLOOKUP($A20,Spieler!$A$11:$I$200,6,FALSE),"") | G20: =IFERROR(VLOOKUP($A20,Spieler!$A$11:$I$200,7,FALSE),"") | H20: =IFERROR(VLOOKUP($A20,Spieler!$A$11:$I$200,8,FALSE),"") | I20: =IFERROR(VLOOKUP($A20,Spieler!$A$11:$I$200,9,FALSE),"")
B21: =IFERROR(VLOOKUP($A21,Spieler!$A$11:$I$200,2,FALSE),"") | C21: =IFERROR(VLOOKUP($A21,Spieler!$A$11:$I$200,3,FALSE),"") | D21: =IF(B21="","",YEAR(B21)) | E21: =IFERROR(VLOOKUP($A21,Spieler!$A$11:$I$200,5,FALSE),"") | F21: =IFERROR(VLOOKUP($A21,Spieler!$A$11:$I$200,6,FALSE),"") | G21: =IFERROR(VLOOKUP($A21,Spieler!$A$11:$I$200,7,FALSE),"") | H21: =IFERROR(VLOOKUP($A21,Spieler!$A$11:$I$200,8,FALSE),"") | I21: =IFERROR(VLOOKUP($A21,Spieler!$A$11:$I$200,9,FALSE),"")
B22: =IFERROR(VLOOKUP($A22,Spieler!$A$11:$I$200,2,FALSE),"") | C22: =IFERROR(VLOOKUP($A22,Spieler!$A$11:$I$200,3,FALSE),"") | D22: =IF(B22="","",YEAR(B22)) | E22: =IFERROR(VLOOKUP($A22,Spieler!$A$11:$I$200,5,FALSE),"") | F22: =IFERROR(VLOOKUP($A22,Spieler!$A$11:$I$200,6,FALSE),"") | G22: =IFERROR(VLOOKUP($A22,Spieler!$A$11:$I$200,7,FALSE),"") | H22: =IFERROR(VLOOKUP($A22,Spieler!$A$11:$I$200,8,FALSE),"") | I22: =IFERROR(VLOOKUP($A22,Spieler!$A$11:$I$200,9,FALSE),"")
... B101: =IFERROR(VLOOKUP($A101,Spieler!$A$11:$I$200,2,FALSE),"") | C101: =IFERROR(VLOOKUP($A101,Spieler!$A$11:$I$200,3,FALSE),"") | D101: =IF(B101="","",YEAR(B101)) | E101: =IFERROR(VLOOKUP($A101,Spieler!$A$11:$I$200,5,FALSE),"") | F101: =IFERROR(VLOOKUP($A101,Spieler!$A$11:$I$200,6,FALSE),"") | G101: =IFERROR(VLOOKUP($A101,Spieler!$A$11:$I$200,7,FALSE),"") | H101: =IFERROR(VLOOKUP($A101,Spieler!$A$11:$I$200,8,FALSE),"") | I101: =IFERROR(VLOOKUP($A101,Spieler!$A$11:$I$200,9,FALSE),"")

Sheet Ergebnis 3.BNWL_2011_12
A7: Gesamtergebnis | B7: 3. BNWL 2011/12, 22. Jänner 2012, Neusiedl/See
A9: Name | B9: Geb. Datum | C9: Verein | D9: Geb. Jahr | E9: M/W | F9: Alters-klasse | G9: Gruppe 1.BNWL | H9: Rang in Gruppe | I9: Rang gesamt | J9: Gruppe 2. BNWL | K9: Vorrunde | L9: Rang in Gruppe | M9: Rang gesamt | N9: Gruppe 3.BNWL | O9: Vorrunde | P9: Rang in Gruppe | Q9: Rang Gesamt | R9: Gruppe 4. BNWL | S9: Rang in Gruppe | T9: Rang Gesamt | U9: Gruppe 1. BNWL | V9: Rang in Gruppe | W9: Rang Gesamt | X9: Gruppe 2. BNWL | Y9: Rang in Gruppe | Z9: Rang Gesamt | AA9: Gruppe 3. BNWL | AB9: Rang in Gruppe | AC9: Rang Gesamt | AD9: Gruppe 4.BNWL | AE9: Vorrunde | AF9: Rang in Gruppe | AG9: Rang Gesamt | AH9: Gruppe 1. BNWL | AI9: Vor-runde | AJ9: Rang in Gruppe | AK9: Rang Gesamt | AL9: Gruppe 2. BNWL | AM9: Rang in Gruppe | AN9: Rang Gesamt | AO9: Gruppe 3. BNWL | AP9: Vor-runde | AQ9: Rang in Gruppe | AR9: Rang Gesamt | AS9: Gruppe 4. BNWL | AT9: Rang in Gruppe | AU9: Rang Gesamt | AV9: Gruppe 2. BNWL | AW9: Rang in Gruppe | AX9: Rang Gesamt | AY9: auf/ab | AZ9: Gruppe 3.BNWL | BA9: Rang in Gruppe | BB9: Rang Gesamt
A10: Schedl Linda | B10: 34423 | C10: OBERP | D10: 1994 | E10: w | F10: J3 | AV10: 1 | AW10: 3 | AX10: 3 | AZ10: 1 | BA10: 1 | BB10: =BA10 -> 1
A11: Weis Michael | B11: 37160 | C11: NEUS | D11: 2001 | E11: m | F11: Mini | AV11: 1 | AW11: 4 | AX11: 4 | AZ11: 1 | BA11: 2 | BB11: =BA11 -> 2
A12: Zöchbauer Rene | B12: 35522 | C12: OBERP | D12: 1997 | E12: m | F12: Sch2 | AV12: 1 | AW12: NA | AX12: NA | AZ12: 1 | BA12: 3 | BB12: =BA12 -> 3
A13: Wallner Raphael | B13: 35209 | C13: OBERP | D13: 1996 | E13: m | F13: J1 | AV13: 1 | AW13: NA | AX13: NA | AZ13: 1 | BA13: 4 | BB13: =BA13 -> 4
A14: Sgiarovello Johannes | B14: 34665 | C14: OSCH | D14: 1994 | E14: m | F14: J3 | AV14: 1 | AW14: 2 | AX14: 2 | AZ14: 1 | BA14: 5 | BB14: =BA14 -> 5
A15: König Ella | B15: 36024 | C15: NEUS | D15: 1998 | E15: w | F15: Sch1 | AV15: 2 | AW15: 2 | AX15: 10 | AY15: auf | AZ15: 1 | BA15: 6 | BB15: =BA15 -> 6
A16: Enz Phillip | B16: 37097 | C16: NEUS | D16: 2001 | E16: m | F16: Mini | AV16: 1 | AW16: 5 | AX16: 5 | AZ16: 1 | BA16: 7 | BB16: =BA16 -> 7
A17: Frey Moritz | B17: 35498 | C17: OSCH | D17: 1997 | E17: m | F17: Sch2 | AV17: 2 | AW17: 1 | AX17: 9 | AY17: auf | AZ17: 1 | BA17: 8 | BB17: =BA17 -> 8
A18: Thury Tobias | B18: 36053 | C18: HALB | D18: 1998 | E18: m | F18: Sch1 | AV18: 1 | AW18: 7 | AX18: 7 | AY18: ab | AZ18: 2 | BA18: 1 | BB18: =8+BA18 -> 9
A19: Palatin Lena | B19: 36660 | C19: OBERP | D19: 2000 | E19: w | F19: Ust1 | AV19: 2 | AW19: 5 | AX19: 13 | AZ19: 2 | BA19: 2 | BB19: =8+BA19 -> 10
A20: Seper Michael | B20: 37204 | C20: OBERW | D20: 2001 | E20: m | F20: Mini | AV20: 2 | AW20: 7 | AX20: 15 | AY20: Nach 1 | AZ20: 2 | BA20: 3 | BB20: =8+BA20 -> 11
A21: Piff Philipp | B21: 36298 | C21: PINK | D21: 1999 | E21: m | F21: Ust2 | AV21: NA | AW21: NA | AX21: NA | AZ21: 2 | BA21: 4 | BB21: =8+BA21 -> 12
A22: Mohr Michael | B22: 36275 | C22: HORN | D22: 1999 | E22: M | F22: Ust2 | AV22: NA | AW22: NA | AX22: NA | AZ22: 2 | BA22: 5 | BB22: =8+BA22 -> 13
A23: Reiner Julian | B23: 36682 | C23: HALB | D23: 2000 | E23: M | F23: Ust1 | AV23: NA | AW23: NA | AX23: NA | AY23: Nach 5 | AZ23: 2 | BA23: 6 | BB23: =8+BA23 -> 14
A24: Posch Benjamin | B24: 36306 | C24: PINK | D24: 1999 | E24: m | F24: Ust2 | AV24: NA | AW24: NA | AX24: NA | AZ24: 2 | BA24: 7 | BB24: =8+BA24 -> 15
A25: Schedl Cedric | B25: 36144 | C25: WIMP | D25: 1998 | E25: m | F25: Sch1 | AV25: 3 | AW25: 6 | AX25: =+AW25+15 -> 21 | AY25: Nach 2 | AZ25: 2 | BA25: 8 | BB25: =8+BA25 -> 16
A26: Gollowitzer Helene | B26: 36894 | C26: HALB | D26: 2001 | E26: w | F26: Mini | AV26: 3 | AW26: 9 | AX26: 25 | AY26: Nach 3 | AZ26: 2 | BA26: 9 | BB26: =8+BA26 -> 17
A27: Strodl Kerstin | B27: 37784 | C27: OBERP | D27: 2003 | E27: w | F27: Mini | AV27: NA | AW27: NA | AX27: NA | AZ27: 2 | BA27: 10 | BB27: =8+BA27 -> 18
A28: Egger Julian | B28: 36625 | C28: NEUS | D28: 2000 | E28: m | F28: Ust1 | AV28: NA | AW28: NA | AX28: NA | AZ28: 2 | BA28: 11 | BB28: =8+BA28 -> 19
A29: Stampf Johannes | B29: 36903 | C29: STEINB | D29: 2001 | E29: m | F29: Mini | AZ29: 2 | BA29: 12 | BB29: =8+BA29 -> 20
A30: Baumrock Mateo | B30: 36845 | C30: STEINB | D30: 2000 | E30: m | F30: Ust1 | AV30: NA | AW30: NA | AX30: NA | AZ30: 2 | BA30: 13 | BB30: =8+BA30 -> 21
A31: Grabmaier Felix | B31: 36631 | C31: STEINB | D31: 2000 | E31: m | F31: Ust1 | AV31: NA | AW31: NA | AX31: NA | AZ31: 2 | BA31: 14 | BB31: =8+BA31 -> 22
A32: Pitzer Julian | B32: 36064 | C32: HALB | D32: 1998 | E32: m | F32: Sch1 | AV32: 3 | AW32: NA | AX32: NA | AY32: Nach 4 | AZ32: 2 | BA32: NA | BB32: NA
A33: Böhme Benjamin | B33: 35165 | C33: OBERP | D33: 1996 | E33: m | F33: J1 | AV33: 1 | AW33: 8 | AX33: 8 | AY33: ab | AZ33: 2 | BA33: NA | BB33: NA
A34: Sirowatka Simon | B34: 36988 | C34: STEINB | D34: 2001 | E34: m | F34: Mini | AV34: NA | AW34: NA | AX34: NA | AZ34: 2 | BA34: NA | BB34: NA

Sheet Spieler
A7: Spielerdaten
A9: Name | B9: Geburtsdatum | C9: Verein | D9: Geb. Jahr | E9: M/W | F9: Alters-klasse | G9: 3. BNWL 2015/2016
A10: (Nachname Vorname) | G10: Gruppe | H10: Platz | I10: Gesamt
A11: Gelbmann Michael | B11: 37700 | C11: HALB | D11: =YEAR(B11) -> 2003 | E11: m | F11: =IF(D11>=Altersklassen!$A$4,VLOOKUP(D11,Altersklassen!$A$4:$B$19,2,TRUE),"") -> S1 | G11: NA | H11: NA | I11: NA
A12: Groß Lara | B12: =IFERROR(VLOOKUP($A12,[1]Spieler!$A$11:$I$200,2,FALSE),"") -> 38448 | C12: =IFERROR(VLOOKUP($A12,[1]Spieler!$A$11:$I$200,3,FALSE),"") -> HALB | D12: =YEAR(B12) -> 2005 | E12: w | F12: =IF(D12>=Altersklassen!$A$4,VLOOKUP(D12,Altersklassen!$A$4:$B$19,2,TRUE),"") -> U1 | G12: 3 | H12: 6 | I12: 23
A13: Hüttl Alice | B13: =IFERROR(VLOOKUP($A13,[1]Spieler!$A$11:$I$200,2,FALSE),"") -> 38448 | C13: =IFERROR(VLOOKUP($A13,[1]Spieler!$A$11:$I$200,3,FALSE),"") -> HALB | D13: =YEAR(B13) -> 2005 | E13: w | F13: =IF(D13>=Altersklassen!$A$4,VLOOKUP(D13,Altersklassen!$A$4:$B$19,2,TRUE),"") -> U1 | G13: 3 | H13: 8 | I13: 25
A14: Pitzer Julian | B14: 36064 | C14: HALB | D14: =YEAR(B14) -> 1998 | E14: m | F14: =IF(D14>=Altersklassen!$A$4,VLOOKUP(D14,Altersklassen!$A$4:$B$19,2,TRUE),"") -> Jun1 | G14: NA | H14: NA | I14: NA
A15: Reiner Julian | B15: 36682 | C15: HALB | D15: =YEAR(B15) -> 2000 | E15: m | F15: =IF(D15>=Altersklassen!$A$4,VLOOKUP(D15,Altersklassen!$A$4:$B$19,2,TRUE),"") -> J2 | G15: 2 | H15: 1 | I15: 10
A16: Sattler Evelyn | B16: =IFERROR(VLOOKUP($A16,[1]Spieler!$A$11:$I$200,2,FALSE),"") -> 37491 | C16: =IFERROR(VLOOKUP($A16,[1]Spieler!$A$11:$I$200,3,FALSE),"") -> HALB | D16: =YEAR(B16) -> 2002 | E16: w | F16: =IF(D16>=Altersklassen!$A$4,VLOOKUP(D16,Altersklassen!$A$4:$B$19,2,TRUE),"") -> S2 | G16: 2 | H16: 2 | I16: 11
A17: Sattler Markus | B17: =IFERROR(VLOOKUP($A17,[1]Spieler!$A$11:$I$200,2,FALSE),"") -> 36083 | C17: =IFERROR(VLOOKUP($A17,[1]Spieler!$A$11:$I$200,3,FALSE),"") -> HALB | D17: =YEAR(B17) -> 1998 | E17: m | F17: =IF(D17>=Altersklassen!$A$4,VLOOKUP(D17,Altersklassen!$A$4:$B$19,2,TRUE),"") -> Jun1 | G17: 1 | H17: 5 | I17: 5
A18: Sattler Martin | B18: 38707 | C18: HALB | D18: =YEAR(B18) -> 2005 | E18: m | F18: =IF(D18>=Altersklassen!$A$4,VLOOKUP(D18,Altersklassen!$A$4:$B$19,2,TRUE),"") -> U1 | G18: 2 | H18: 6 | I18: 15
A19: Sattler Rainer | B19: 36783 | C19: HALB | D19: =YEAR(B19) -> 2000 | E19: m | F19: =IF(D19>=Altersklassen!$A$4,VLOOKUP(D19,Altersklassen!$A$4:$B$19,2,TRUE),"") -> J2 | G19: 1 | H19: 4 | I19: 4
A20: Szoldatics Elena | B20: =IFERROR(VLOOKUP($A20,[1]Spieler!$A$11:$I$200,2,FALSE),"") -> 38912 | C20: =IFERROR(VLOOKUP($A20,[1]Spieler!$A$11:$I$200,3,FALSE),"") -> HALB | D20: =YEAR(B20) -> 2006 | E20: w | F20: =IF(D20>=Altersklassen!$A$4,VLOOKUP(D20,Altersklassen!$A$4:$B$19,2,TRUE),"") -> Mini | G20: 3 | H20: 11 | I20: 28
A21: Thury Tobias | B21: 36053 | C21: HALB | D21: =YEAR(B21) -> 1998 | E21: m | F21: =IF(D21>=Altersklassen!$A$4,VLOOKUP(D21,Altersklassen!$A$4:$B$19,2,TRUE),"") -> Jun1 | G21: 1 | H21: 7 | I21: 7
A22: Weiß Fiona | B22: =IFERROR(VLOOKUP($A22,[1]Spieler!$A$11:$I$200,2,FALSE),"") -> 39246 | C22: =IFERROR(VLOOKUP($A22,[1]Spieler!$A$11:$I$200,3,FALSE),"") -> HALB | D22: =YEAR(B22) -> 2007 | E22: w | F22: =IF(D22>=Altersklassen!$A$4,VLOOKUP(D22,Altersklassen!$A$4:$B$19,2,TRUE),"") -> Mini | G22: 3 | H22: 14 | I22: 31
A23: Wimmer Nadine | B23: =IFERROR(VLOOKUP($A23,[1]Spieler!$A$11:$I$200,2,FALSE),"") -> 38254 | C23: =IFERROR(VLOOKUP($A23,[1]Spieler!$A$11:$I$200,3,FALSE),"") -> HALB | D23: =YEAR(B23) -> 2004 | E23: w | F23: =IF(D23>=Altersklassen!$A$4,VLOOKUP(D23,Altersklassen!$A$4:$B$19,2,TRUE),"") -> U2 | G23: 3 | H23: 5 | I23: 22
A24: Zinkl Jonas | B24: 38159 | C24: HALB | D24: =YEAR(B24) -> 2004 | E24: m | F24: =IF(D24>=Altersklassen!$A$4,VLOOKUP(D24,Altersklassen!$A$4:$B$19,2,TRUE),"") -> U2 | G24: NA | H24: NA | I24: NA
A25: Mohr Michael | B25: 36275 | C25: HORN | D25: =YEAR(B25) -> 1999 | E25: m | F25: =IF(D25>=Altersklassen!$A$4,VLOOKUP(D25,Altersklassen!$A$4:$B$19,2,TRUE),"") -> J3 | G25: NA | H25: NA | I25: NA
A26: Schebek Sven | B26: 35245 | C26: JOIS | D26: =YEAR(B26) -> 1996 | E26: m | F26: =IF(D26>=Altersklassen!$A$4,VLOOKUP(D26,Altersklassen!$A$4:$B$19,2,TRUE),"") -> Jun3 | G26: NA | H26: NA | I26: NA
A27: Schmidts Vincent | B27: 34974 | C27: JOIS | D27: =YEAR(B27) -> 1995 | E27: m | F27: =IF(D27>=Altersklassen!$A$4,VLOOKUP(D27,Altersklassen!$A$4:$B$19,2,TRUE),"") | G27: NA | H27: NA | I27: NA
A28: Wein Mikail | B28: 36029 | C28: JOIS | D28: =YEAR(B28) -> 1998 | E28: m | F28: =IF(D28>=Altersklassen!$A$4,VLOOKUP(D28,Altersklassen!$A$4:$B$19,2,TRUE),"") -> Jun1 | G28: NA | H28: NA | I28: NA
A29: Wein Samuel | B29: 38120 | C29: JOIS | D29: =YEAR(B29) -> 2004 | E29: m | F29: =IF(D29>=Altersklassen!$A$4,VLOOKUP(D29,Altersklassen!$A$4:$B$19,2,TRUE),"") -> U2 | G29: NA | H29: NA | I29: NA
A30: Frantsich Emil | B30: 37665 | C30: KLEIN | D30: =YEAR(B30) -> 2003 | E30: m | F30: =IF(D30>=Altersklassen!$A$4,VLOOKUP(D30,Altersklassen!$A$4:$B$19,2,TRUE),"") -> S1 | G30: NA | H30: NA | I30: NA
A31: Günther Lukas | B31: 37637 | C31: KLEIN | D31: =YEAR(B31) -> 2003 | E31: m | F31: =IF(D31>=Altersklassen!$A$4,VLOOKUP(D31,Altersklassen!$A$4:$B$19,2,TRUE),"") -> S1 | G31: NA | H31: NA | I31: NA
A32: Steinprecher Philipp | B32: 37636 | C32: KLEIN | D32: =YEAR(B32) -> 2003 | E32: m | F32: =IF(D32>=Altersklassen!$A$4,VLOOKUP(D32,Altersklassen!$A$4:$B$19,2,TRUE),"") -> S1 | G32: NA | H32: NA | I32: NA
A33: Bordo Aylin | B33: =IFERROR(VLOOKUP($A33,[1]Spieler!$A$11:$I$200,2,FALSE),"") -> 37374 | C33: =IFERROR(VLOOKUP($A33,[1]Spieler!$A$11:$I$200,3,FALSE),"") -> MATTB | D33: =YEAR(B33) -> 2002 | E33: w | F33: =IF(D33>=Altersklassen!$A$4,VLOOKUP(D33,Altersklassen!$A$4:$B$19,2,TRUE),"") -> S2 | G33: 3 | H33: 9 | I33: 26
A34: Bordo Jacqueline | B34: =IFERROR(VLOOKUP($A34,[1]Spieler!$A$11:$I$200,2,FALSE),"") -> 37374 | C34: =IFERROR(VLOOKUP($A34,[1]Spieler!$A$11:$I$200,3,FALSE),"") -> MATTB | D34: =YEAR(B34) -> 2002 | E34: w | F34: =IF(D34>=Altersklassen!$A$4,VLOOKUP(D34,Altersklassen!$A$4:$B$19,2,TRUE),"") -> S2 | G34: 3 | H34: 10 | I34: 27
A35: Ulrich Michael | B35: =IFERROR(VLOOKUP($A35,[1]Spieler!$A$11:$I$200,2,FALSE),"") -> 38253 | C35: =IFERROR(VLOOKUP($A35,[1]Spieler!$A$11:$I$200,3,FALSE),"") -> MATTB | D35: =YEAR(B35) -> 2004 | E35: m | F35: =IF(D35>=Altersklassen!$A$4,VLOOKUP(D35,Altersklassen!$A$4:$B$19,2,TRUE),"") -> U2 | G35: 3 | H35: 7 | I35: 24
A36: Ulrich Thomas | B36: =IFERROR(VLOOKUP($A36,[1]Spieler!$A$11:$I$200,2,FALSE),"") -> 37391 | C36: =IFERROR(VLOOKUP($A36,[1]Spieler!$A$11:$I$200,3,FALSE),"") -> MATTB | D36: =YEAR(B36) -> 2002 | E36: m | F36: =IF(D36>=Altersklassen!$A$4,VLOOKUP(D36,Altersklassen!$A$4:$B$19,2,TRUE),"") -> S2 | G36: 2 | H36: 7 | I36: 16
A37: Janisch Gabriel | B37: 37566 | C37: MÖNC | D37: =YEAR(B37) -> 2002 | E37: m | F37: =IF(D37>=Altersklassen!$A$4,VLOOKUP(D37,Altersklassen!$A$4:$B$19,2,TRUE),"") -> S2 | G37: NA | H37: NA | I37: NA
A38: Bacher Alina | B38: 37753 | C38: NEUS | D38: =YEAR(B38) -> 2003 | E38: w | F38: =IF(D38>=Altersklassen!$A$4,VLOOKUP(D38,Altersklassen!$A$4:$B$19,2,TRUE),"") -> S1 | G38: NA | H38: NA | I38: NA
A39: Czako Denis | B39: 38180 | C39: NEUS | D39: =YEAR(B39) -> 2004 | E39: m | F39: =IF(D39>=Altersklassen!$A$4,VLOOKUP(D39,Altersklassen!$A$4:$B$19,2,TRUE),"") -> U2 | G39: 1 | H39: 9 | I39: 9
A40: Enz Phillip | B40: 37097 | C40: NEUS | D40: =YEAR(B40) -> 2001 | E40: m | F40: =IF(D40>=Altersklassen!$A$4,VLOOKUP(D40,Altersklassen!$A$4:$B$19,2,TRUE),"") -> J1 | G40: 1 | H40: 1 | I40: 1
A41: Gans Tobias | B41: 37334 | C41: NEUS | D41: =YEAR(B41) -> 2002 | E41: m | F41: =IF(D41>=Altersklassen!$A$4,VLOOKUP(D41,Altersklassen!$A$4:$B$19,2,TRUE),"") -> S2 | G41: NA | H41: NA | I41: NA
A42: Hagenauer Julian | B42: 37836 | C42: NEUS | D42: =YEAR(B42) -> 2003 | E42: m | F42: =IF(D42>=Altersklassen!$A$4,VLOOKUP(D42,Altersklassen!$A$4:$B$19,2,TRUE),"") -> S1 | G42: NA | H42: NA | I42: NA
A43: Harrer Sophie | B43: 37694 | C43: NEUS | D43: =YEAR(B43) -> 2003 | E43: w | F43: =IF(D43>=Altersklassen!$A$4,VLOOKUP(D43,Altersklassen!$A$4:$B$19,2,TRUE),"") -> S1 | G43: NA | H43: NA | I43: NA
A44: Hofstetter Max | B44: 37893 | C44: NEUS | D44: =YEAR(B44) -> 2003 | E44: m | F44: =IF(D44>=Altersklassen!$A$4,VLOOKUP(D44,Altersklassen!$A$4:$B$19,2,TRUE),"") -> S1 | G44: 3 | H44: 1 | I44: 18
A45: Hofstetter Moritz | B45: 37893 | C45: NEUS | D45: =YEAR(B45) -> 2003 | E45: m | F45: =IF(D45>=Altersklassen!$A$4,VLOOKUP(D45,Altersklassen!$A$4:$B$19,2,TRUE),"") -> S1 | G45: 3 | H45: 4 | I45: 21
A46: Huber Katja | B46: 37558 | C46: NEUS | D46: =YEAR(B46) -> 2002 | E46: w | F46: =IF(D46>=Altersklassen!$A$4,VLOOKUP(D46,Altersklassen!$A$4:$B$19,2,TRUE),"") -> S2 | G46: NA | H46: NA | I46: NA
A47: König Ella | B47: 36024 | C47: NEUS | D47: =YEAR(B47) -> 1998 | E47: w | F47: =IF(D47>=Altersklassen!$A$4,VLOOKUP(D47,Altersklassen!$A$4:$B$19,2,TRUE),"") -> Jun1 | G47: NA | H47: NA | I47: NA
A48: Kőszegi Zalan | B48: =IFERROR(VLOOKUP($A48,[1]Spieler!$A$11:$I$200,2,FALSE),"") -> 39218 | C48: =IFERROR(VLOOKUP($A48,[1]Spieler!$A$11:$I$200,3,FALSE),"") -> NEUS | D48: =YEAR(B48) -> 2007 | E48: m | F48: =IF(D48>=Altersklassen!$A$4,VLOOKUP(D48,Altersklassen!$A$4:$B$19,2,TRUE),"") -> Mini | G48: 2 | H48: 8 | I48: 17
A49: Kreutzer Patrick | B49: 36392 | C49: NEUS | D49: =YEAR(B49) -> 1999 | E49: m | F49: =IF(D49>=Altersklassen!$A$4,VLOOKUP(D49,Altersklassen!$A$4:$B$19,2,TRUE),"") -> J3 | G49: NA | H49: NA | I49: NA
A50: Nolz David | B50: 36953 | C50: NEUS | D50: =YEAR(B50) -> 2001 | E50: m | F50: =IF(D50>=Altersklassen!$A$4,VLOOKUP(D50,Altersklassen!$A$4:$B$19,2,TRUE),"") -> J1 | G50: NA | H50: NA | I50: NA
A51: Reeh Conner | B51: 37741 | C51: NEUS | D51: =YEAR(B51) -> 2003 | E51: m | F51: =IF(D51>=Altersklassen!$A$4,VLOOKUP(D51,Altersklassen!$A$4:$B$19,2,TRUE),"") -> S1 | G51: NA | H51: NA | I51: NA
A52: Sturchka Tobias | B52: =IFERROR(VLOOKUP($A52,[1]Spieler!$A$11:$I$200,2,FALSE),"") -> 38909 | C52: =IFERROR(VLOOKUP($A52,[1]Spieler!$A$11:$I$200,3,FALSE),"") -> NEUS | D52: =YEAR(B52) -> 2006 | E52: m | F52: =IF(D52>=Altersklassen!$A$4,VLOOKUP(D52,Altersklassen!$A$4:$B$19,2,TRUE),"") -> Mini | G52: 3 | H52: 13 | I52: 30
A53: Szankovich Adam | B53: 36691 | C53: NEUS | D53: =YEAR(B53) -> 2000 | E53: m | F53: =IF(D53>=Altersklassen!$A$4,VLOOKUP(D53,Altersklassen!$A$4:$B$19,2,TRUE),"") -> J2 | G53: NA | H53: NA | I53: NA
A54: Szankovich Sava | B54: 37877 | C54: NEUS | D54: =YEAR(B54) -> 2003 | E54: w | F54: =IF(D54>=Altersklassen!$A$4,VLOOKUP(D54,Altersklassen!$A$4:$B$19,2,TRUE),"") -> S1 | G54: 2 | H54: 5 | I54: 14
A55: Tillhof Jakob | B55: 37880 | C55: NEUS | D55: =YEAR(B55) -> 2003 | E55: m | F55: =IF(D55>=Altersklassen!$A$4,VLOOKUP(D55,Altersklassen!$A$4:$B$19,2,TRUE),"") -> S1 | G55: NA | H55: NA | I55: NA
A56: Tillhof Jonas | B56: 37261 | C56: NEUS | D56: =YEAR(B56) -> 2002 | E56: m | F56: =IF(D56>=Altersklassen!$A$4,VLOOKUP(D56,Altersklassen!$A$4:$B$19,2,TRUE),"") -> S2 | G56: NA | H56: NA | I56: NA
A57: Virag Matthias | B57: =IFERROR(VLOOKUP($A57,[1]Spieler!$A$11:$I$200,2,FALSE),"") -> 42461 | C57: =IFERROR(VLOOKUP($A57,[1]Spieler!$A$11:$I$200,3,FALSE),"") -> NEUS | D57: =YEAR(B57) -> 2016 | E57: m | F57: =IF(D57>=Altersklassen!$A$4,VLOOKUP(D57,Altersklassen!$A$4:$B$19,2,TRUE),"") -> Mini | G57: 3 | H57: 12 | I57: 29
A58: Balogh Sebastian | B58: =IFERROR(VLOOKUP($A58,[1]Spieler!$A$11:$I$200,2,FALSE),"") -> 37538 | C58: =IFERROR(VLOOKUP($A58,[1]Spieler!$A$11:$I$200,3,FALSE),"") -> OBERP | D58: =YEAR(B58) -> 2002 | E58: m | F58: =IF(D58>=Altersklassen!$A$4,VLOOKUP(D58,Altersklassen!$A$4:$B$19,2,TRUE),"") -> S2 | G58: 3 | H58: 3 | I58: 20
A59: Bauer Lena | B59: 37786 | C59: OBERP | D59: =YEAR(B59) -> 2003 | E59: w | F59: =IF(D59>=Altersklassen!$A$4,VLOOKUP(D59,Altersklassen!$A$4:$B$19,2,TRUE),"") -> S1 | G59: NA | H59: NA | I59: NA
A60: Böhme Benjamin | B60: 35165 | C60: OBERP | D60: =YEAR(B60) -> 1996 | E60: m | F60: =IF(D60>=Altersklassen!$A$4,VLOOKUP(D60,Altersklassen!$A$4:$B$19,2,TRUE),"") -> Jun3 | G60: NA | H60: NA | I60: NA
A61: Fasching Elias | B61: 39085 | C61: OBERP | D61: =YEAR(B61) -> 2007 | E61: m | F61: =IF(D61>=Altersklassen!$A$4,VLOOKUP(D61,Altersklassen!$A$4:$B$19,2,TRUE),"") -> Mini | G61: NA | H61: NA | I61: NA
A62: Gamperl Markus | B62: 36082 | C62: OBERP | D62: =YEAR(B62) -> 1998 | E62: m | F62: =IF(D62>=Altersklassen!$A$4,VLOOKUP(D62,Altersklassen!$A$4:$B$19,2,TRUE),"") -> Jun1 | G62: NA | H62: NA | I62: NA
A63: Greifeneder Michael | B63: 37913 | C63: OBERP | D63: =YEAR(B63) -> 2003 | E63: m | F63: =IF(D63>=Altersklassen!$A$4,VLOOKUP(D63,Altersklassen!$A$4:$B$19,2,TRUE),"") -> S1 | G63: NA | H63: NA | I63: NA
A64: Gruber Marko | B64: 37503 | C64: OBERP | D64: =YEAR(B64) -> 2002 | E64: m | F64: =IF(D64>=Altersklassen!$A$4,VLOOKUP(D64,Altersklassen!$A$4:$B$19,2,TRUE),"") -> S2 | G64: 2 | H64: 4 | I64: 13
A65: Haas Nico | B65: 36588 | C65: OBERP | D65: =YEAR(B65) -> 2000 | E65: m | F65: =IF(D65>=Altersklassen!$A$4,VLOOKUP(D65,Altersklassen!$A$4:$B$19,2,TRUE),"") -> J2 | G65: NA | H65: NA | I65: NA
A66: Hofer Andreas | B66: 38452 | C66: OBERP | D66: =YEAR(B66) -> 2005 | E66: m | F66: =IF(D66>=Altersklassen!$A$4,VLOOKUP(D66,Altersklassen!$A$4:$B$19,2,TRUE),"") -> U1 | G66: NA | H66: NA | I66: NA
A67: Hofer Madlen | B67: 35648 | C67: OBERP | D67: =YEAR(B67) -> 1997 | E67: w | F67: =IF(D67>=Altersklassen!$A$4,VLOOKUP(D67,Altersklassen!$A$4:$B$19,2,TRUE),"") -> Jun2 | G67: NA | H67: NA | I67: NA
A68: Holzer Jonathan | B68: 38817 | C68: OBERP | D68: =YEAR(B68) -> 2006 | E68: m | F68: =IF(D68>=Altersklassen!$A$4,VLOOKUP(D68,Altersklassen!$A$4:$B$19,2,TRUE),"") -> Mini | G68: NA | H68: NA | I68: NA
A69: Huisbauer Matthäus | B69: 35683 | C69: OBERP | D69: =YEAR(B69) -> 1997 | E69: m | F69: =IF(D69>=Altersklassen!$A$4,VLOOKUP(D69,Altersklassen!$A$4:$B$19,2,TRUE),"") -> Jun2 | G69: NA | H69: NA | I69: NA
A70: Koo Alexander | B70: 36615 | C70: OBERP | D70: =YEAR(B70) -> 2000 | E70: m | F70: =IF(D70>=Altersklassen!$A$4,VLOOKUP(D70,Altersklassen!$A$4:$B$19,2,TRUE),"") -> J2 | G70: NA | H70: NA | I70: NA
A71: Palatin Lena | B71: 36660 | C71: OBERP | D71: =YEAR(B71) -> 2000 | E71: w | F71: =IF(D71>=Altersklassen!$A$4,VLOOKUP(D71,Altersklassen!$A$4:$B$19,2,TRUE),"") -> J2 | G71: 1 | H71: 3 | I71: 3
A72: Patzelt Philipp | B72: 35716 | C72: OBERP | D72: =YEAR(B72) -> 1997 | E72: m | F72: =IF(D72>=Altersklassen!$A$4,VLOOKUP(D72,Altersklassen!$A$4:$B$19,2,TRUE),"") -> Jun2 | G72: NA | H72: NA | I72: NA
A73: Pfneiszl Christoph | B73: 37536 | C73: OBERP | D73: =YEAR(B73) -> 2002 | E73: m | F73: =IF(D73>=Altersklassen!$A$4,VLOOKUP(D73,Altersklassen!$A$4:$B$19,2,TRUE),"") -> S2 | G73: 1 | H73: 6 | I73: 6
A74: Schmall Dominik | B74: =IFERROR(VLOOKUP($A74,[1]Spieler!$A$11:$I$200,2,FALSE),"") -> 37180 | C74: =IFERROR(VLOOKUP($A74,[1]Spieler!$A$11:$I$200,3,FALSE),"") -> OBERP | D74: =YEAR(B74) -> 2001 | E74: m | F74: =IF(D74>=Altersklassen!$A$4,VLOOKUP(D74,Altersklassen!$A$4:$B$19,2,TRUE),"") -> J1 | G74: 3 | H74: 2 | I74: 19
A75: Stammer Kimi | B75: 38293 | C75: OBERP | D75: =YEAR(B75) -> 2004 | E75: m | F75: =IF(D75>=Altersklassen!$A$4,VLOOKUP(D75,Altersklassen!$A$4:$B$19,2,TRUE),"") -> U2 | G75: NA | H75: NA | I75: NA
A76: Strodl Kerstin | B76: 37784 | C76: OBERP | D76: =YEAR(B76) -> 2003 | E76: w | F76: =IF(D76>=Altersklassen!$A$4,VLOOKUP(D76,Altersklassen!$A$4:$B$19,2,TRUE),"") -> S1 | G76: NA | H76: NA | I76: NA
A77: Tajmel Nino | B77: 38660 | C77: OBERP | D77: =YEAR(B77) -> 2005 | E77: m | F77: =IF(D77>=Altersklassen!$A$4,VLOOKUP(D77,Altersklassen!$A$4:$B$19,2,TRUE),"") -> U1 | G77: 2 | H77: 3 | I77: 12
A78: Taschner Marvin | B78: 36692 | C78: OBERP | D78: =YEAR(B78) -> 2000 | E78: m | F78: =IF(D78>=Altersklassen!$A$4,VLOOKUP(D78,Altersklassen!$A$4:$B$19,2,TRUE),"") -> J2 | G78: NA | H78: NA | I78: NA
A79: Wallner Raphael | B79: 35209 | C79: OBERP | D79: =YEAR(B79) -> 1996 | E79: m | F79: =IF(D79>=Altersklassen!$A$4,VLOOKUP(D79,Altersklassen!$A$4:$B$19,2,TRUE),"") -> Jun3 | G79: NA | H79: NA | I79: NA
A80: Zöchbauer Rene | B80: 35522 | C80: OBERP | D80: =YEAR(B80) -> 1997 | E80: m | F80: =IF(D80>=Altersklassen!$A$4,VLOOKUP(D80,Altersklassen!$A$4:$B$19,2,TRUE),"") -> Jun2 | G80: NA | H80: NA | I80: NA
A81: Baliko Daniel | B81: 37033 | C81: OBERW | D81: =YEAR(B81) -> 2001 | E81: m | F81: =IF(D81>=Altersklassen!$A$4,VLOOKUP(D81,Altersklassen!$A$4:$B$19,2,TRUE),"") -> J1 | G81: NA | H81: NA | I81: NA
A82: Brindlinger Florian | B82: 37455 | C82: OBERW | D82: =YEAR(B82) -> 2002 | E82: m | F82: =IF(D82>=Altersklassen!$A$4,VLOOKUP(D82,Altersklassen!$A$4:$B$19,2,TRUE),"") -> S2 | G82: NA | H82: NA | I82: NA
A83: Gonzalez Mikel | B83: 37834 | C83: OBERW | D83: =YEAR(B83) -> 2003 | E83: m | F83: =IF(D83>=Altersklassen!$A$4,VLOOKUP(D83,Altersklassen!$A$4:$B$19,2,TRUE),"") -> S1 | G83: NA | H83: NA | I83: NA
A84: Huss Hanna | B84: 39041 | C84: OBERW | D84: =YEAR(B84) -> 2006 | E84: w | F84: =IF(D84>=Altersklassen!$A$4,VLOOKUP(D84,Altersklassen!$A$4:$B$19,2,TRUE),"") -> Mini | G84: NA | H84: NA | I84: NA
A85: Kaipel Nico | B85: 37762 | C85: OBERW | D85: =YEAR(B85) -> 2003 | E85: m | F85: =IF(D85>=Altersklassen!$A$4,VLOOKUP(D85,Altersklassen!$A$4:$B$19,2,TRUE),"") -> S1 | G85: NA | H85: NA | I85: NA
A86: Pathy Erwin | B86: 35759 | C86: OBERW | D86: =YEAR(B86) -> 1997 | E86: m | F86: =IF(D86>=Altersklassen!$A$4,VLOOKUP(D86,Altersklassen!$A$4:$B$19,2,TRUE),"") -> Jun2 | G86: NA | H86: NA | I86: NA
A87: Seper Michael | B87: 37204 | C87: OBERW | D87: =YEAR(B87) -> 2001 | E87: m | F87: =IF(D87>=Altersklassen!$A$4,VLOOKUP(D87,Altersklassen!$A$4:$B$19,2,TRUE),"") -> J1 | G87: 1 | H87: 2 | I87: 2
A88: Weninger Tobias | B88: 37616 | C88: OBERW | D88: =YEAR(B88) -> 2002 | E88: m | F88: =IF(D88>=Altersklassen!$A$4,VLOOKUP(D88,Altersklassen!$A$4:$B$19,2,TRUE),"") -> S2 | G88: 1 | H88: 8 | I88: 8
A89: Fleck Vanessa | B89: 38834 | C89: OSCH | D89: =YEAR(B89) -> 2006 | E89: w | F89: =IF(D89>=Altersklassen!$A$4,VLOOKUP(D89,Altersklassen!$A$4:$B$19,2,TRUE),"") -> Mini | G89: NA | H89: NA | I89: NA
A90: Frey Moritz | B90: 35498 | C90: OSCH | D90: =YEAR(B90) -> 1997 | E90: m | F90: =IF(D90>=Altersklassen!$A$4,VLOOKUP(D90,Altersklassen!$A$4:$B$19,2,TRUE),"") -> Jun2 | G90: NA | H90: NA | I90: NA
A91: Graf Anna | B91: 38530 | C91: OSCH | D91: =YEAR(B91) -> 2005 | E91: w | F91: =IF(D91>=Altersklassen!$A$4,VLOOKUP(D91,Altersklassen!$A$4:$B$19,2,TRUE),"") -> U1 | G91: NA | H91: NA | I91: NA
A92: Mujic Almedina | B92: 38977 | C92: OSCH | D92: =YEAR(B92) -> 2006 | E92: w | F92: =IF(D92>=Altersklassen!$A$4,VLOOKUP(D92,Altersklassen!$A$4:$B$19,2,TRUE),"") -> Mini | G92: NA | H92: NA | I92: NA
A93: Murlasits Rosalie | B93: 38871 | C93: OSCH | D93: =YEAR(B93) -> 2006 | E93: w | F93: =IF(D93>=Altersklassen!$A$4,VLOOKUP(D93,Altersklassen!$A$4:$B$19,2,TRUE),"") -> Mini | G93: NA | H93: NA | I93: NA
A94: Neubauer Hanna | B94: 38977 | C94: OSCH | D94: =YEAR(B94) -> 2006 | E94: w | F94: =IF(D94>=Altersklassen!$A$4,VLOOKUP(D94,Altersklassen!$A$4:$B$19,2,TRUE),"") -> Mini | G94: NA | H94: NA | I94: NA
A95: Sylvestre Christoph | B95: 35922 | C95: OSCH | D95: =YEAR(B95) -> 1998 | E95: m | F95: =IF(D95>=Altersklassen!$A$4,VLOOKUP(D95,Altersklassen!$A$4:$B$19,2,TRUE),"") -> Jun1 | G95: NA | H95: NA | I95: NA
A96: Karbun Daniel | B96: 36569 | C96: PINK | D96: =YEAR(B96) -> 2000 | E96: m | F96: =IF(D96>=Altersklassen!$A$4,VLOOKUP(D96,Altersklassen!$A$4:$B$19,2,TRUE),"") -> J2 | G96: NA | H96: NA | I96: NA
A97: Posch Benjamin | B97: 36306 | C97: PINK | D97: =YEAR(B97) -> 1999 | E97: m | F97: =IF(D97>=Altersklassen!$A$4,VLOOKUP(D97,Altersklassen!$A$4:$B$19,2,TRUE),"") -> J3 | G97: NA | H97: NA | I97: NA
A98: Salzger Andre | B98: 35157 | C98: PINK | D98: =YEAR(B98) -> 1996 | E98: m | F98: =IF(D98>=Altersklassen!$A$4,VLOOKUP(D98,Altersklassen!$A$4:$B$19,2,TRUE),"") -> Jun3 | G98: NA | H98: NA | I98: NA
A99: Bader Michael | B99: 37604 | C99: STEINB | D99: =YEAR(B99) -> 2002 | E99: m | F99: =IF(D99>=Altersklassen!$A$4,VLOOKUP(D99,Altersklassen!$A$4:$B$19,2,TRUE),"") -> S2 | G99: NA | H99: NA | I99: NA
A100: Brandl Nico | B100: 37587 | C100: STEINB | D100: =YEAR(B100) -> 2002 | E100: m | F100: =IF(D100>=Altersklassen!$A$4,VLOOKUP(D100,Altersklassen!$A$4:$B$19,2,TRUE),"") -> S2 | G100: NA | H100: NA | I100: NA
... A121: Schedl Cederic | B121: 36144 | C121: WIMP | D121: =YEAR(B121) -> 1998 | E121: m | F121: =IF(D121>=Altersklassen!$A$4,VLOOKUP(D121,Altersklassen!$A$4:$B$19,2,TRUE),"") -> Jun1 | G121: NA | H121: NA | I121: NA
F122: =IF(D122>=Altersklassen!$A$4,VLOOKUP(D122,Altersklassen!$A$4:$B$19,2,TRUE),"")
F123: =IF(D123>=Altersklassen!$A$4,VLOOKUP(D123,Altersklassen!$A$4:$B$19,2,TRUE),"")
F124: =IF(D124>=Altersklassen!$A$4,VLOOKUP(D124,Altersklassen!$A$4:$B$19,2,TRUE),"")
F125: =IF(D125>=Altersklassen!$A$4,VLOOKUP(D125,Altersklassen!$A$4:$B$19,2,TRUE),"")
F126: =IF(D126>=Altersklassen!$A$4,VLOOKUP(D126,Altersklassen!$A$4:$B$19,2,TRUE),"")
F127: =IF(D127>=Altersklassen!$A$4,VLOOKUP(D127,Altersklassen!$A$4:$B$19,2,TRUE),"")
...

Sheet Altersklassen
A4: 1996 | B4: Jun3
A5: 1997 | B5: Jun2
A6: 1998 | B6: Jun1
A7: 1999 | B7: J3
A8: 2000 | B8: J2
A9: 2001 | B9: J1
A10: 2002 | B10: S2
A11: 2003 | B11: S1
A12: 2004 | B12: U2
A13: 2005 | B13: U1
A14: 2006 | B14: Mini
A15: 2007 | B15: Mini
... A19: 2011 | B19: Mini
