Workbook

Sheet Nennformular 2.BNWL 2015-16
A7: Nennformular | C7: 2. BNWL 2015/2016 | I7: Oberpullendorf, 24.01.2016
A9: Name | B9: Geburtsdatum | C9: Verein | D9: Geb. Jahr | E9: M/W | F9: Alters-klasse | G9: 1. BNWL 2015/2016
A10: (Nachname Vorname) | G10: Gruppe | H10: Platz | I10: Gesamt
B11: =IFERROR(VLOOKUP($A11,Spieler!$A$11:$I$99,2,FALSE),"") | C11: =IFERROR(VLOOKUP($A11,Spieler!$A$11:$I$99,3,FALSE),"") | D11: =IF(B11="","",YEAR(B11)) | E11: =IFERROR(VLOOKUP($A11,Spieler!$A$11:$I$99,5,FALSE),"") | F11: =IFERROR(VLOOKUP($A11,Spieler!$A$11:$I$99,6,FALSE),"") | G11: =IFERROR(VLOOKUP($A11,Spieler!$A$11:$I$99,7,FALSE),"") | H11: =IFERROR(VLOOKUP($A11,Spieler!$A$11:$I$99,8,FALSE),"") | I11: =IFERROR(VLOOKUP($A11,Spieler!$A$11:$I$99,9,FALSE),"")
B12: =IFERROR(VLOOKUP($A12,Spieler!$A$11:$I$99,2,FALSE),"") | C12: =IFERROR(VLOOKUP($A12,Spieler!$A$11:$I$99,3,FALSE),"") | D12: =IF(B12="","",YEAR(B12)) | E12: =IFERROR(VLOOKUP($A12,Spieler!$A$11:$I$99,5,FALSE),"") | F12: =IFERROR(VLOOKUP($A12,Spieler!$A$11:$I$99,6,FALSE),"") | G12: =IFERROR(VLOOKUP($A12,Spieler!$A$11:$I$99,7,FALSE),"") | H12: =IFERROR(VLOOKUP($A12,Spieler!$A$11:$I$99,8,FALSE),"") | I12: =IFERROR(VLOOKUP($A12,Spieler!$A$11:$I$99,9,FALSE),"")
B13: =IFERROR(VLOOKUP($A13,Spieler!$A$11:$I$99,2,FALSE),"") | C13: =IFERROR(VLOOKUP($A13,Spieler!$A$11:$I$99,3,FALSE),"") | D13: =IF(B13="","",YEAR(B13)) | E13: =IFERROR(VLOOKUP($A13,Spieler!$A$11:$I$99,5,FALSE),"") | F13: =IFERROR(VLOOKUP($A13,Spieler!$A$11:$I$99,6,FALSE),"") | G13: =IFERROR(VLOOKUP($A13,Spieler!$A$11:$I$99,7,FALSE),"") | H13: =IFERROR(VLOOKUP($A13,Spieler!$A$11:$I$99,8,FALSE),"") | I13: =IFERROR(VLOOKUP($A13,Spieler!$A$11:$I$99,9,FALSE),"")
B14: =IFERROR(VLOOKUP($A14,Spieler!$A$11:$I$99,2,FALSE),"") | C14: =IFERROR(VLOOKUP($A14,Spieler!$A$11:$I$99,3,FALSE),"") | D14: =IF(B14="","",YEAR(B14)) | E14: =IFERROR(VLOOKUP($A14,Spieler!$A$11:$I$99,5,FALSE),"") | F14: =IFERROR(VLOOKUP($A14,Spieler!$A$11:$I$99,6,FALSE),"") | G14: =IFERROR(VLOOKUP($A14,Spieler!$A$11:$I$99,7,FALSE),"") | H14: =IFERROR(VLOOKUP($A14,Spieler!$A$11:$I$99,8,FALSE),"") | I14: =IFERROR(VLOOKUP($A14,Spieler!$A$11:$I$99,9,FALSE),"")
B15: =IFERROR(VLOOKUP($A15,Spieler!$A$11:$I$99,2,FALSE),"") | C15: =IFERROR(VLOOKUP($A15,Spieler!$A$11:$I$99,3,FALSE),"") | D15: =IF(B15="","",YEAR(B15)) | E15: =IFERROR(VLOOKUP($A15,Spieler!$A$11:$I$99,5,FALSE),"") | F15: =IFERROR(VLOOKUP($A15,Spieler!$A$11:$I$99,6,FALSE),"") | G15: =IFERROR(VLOOKUP($A15,Spieler!$A$11:$I$99,7,FALSE),"") | H15: =IFERROR(VLOOKUP($A15,Spieler!$A$11:$I$99,8,FALSE),"") | I15: =IFERROR(VLOOKUP($A15,Spieler!$A$11:$I$99,9,FALSE),"")
B16: =IFERROR(VLOOKUP($A16,Spieler!$A$11:$I$99,2,FALSE),"") | C16: =IFERROR(VLOOKUP($A16,Spieler!$A$11:$I$99,3,FALSE),"") | D16: =IF(B16="","",YEAR(B16)) | E16: =IFERROR(VLOOKUP($A16,Spieler!$A$11:$I$99,5,FALSE),"") | F16: =IFERROR(VLOOKUP($A16,Spieler!$A$11:$I$99,6,FALSE),"") | G16: =IFERROR(VLOOKUP($A16,Spieler!$A$11:$I$99,7,FALSE),"") | H16: =IFERROR(VLOOKUP($A16,Spieler!$A$11:$I$99,8,FALSE),"") | I16: =IFERROR(VLOOKUP($A16,Spieler!$A$11:$I$99,9,FALSE),"")
B17: =IFERROR(VLOOKUP($A17,Spieler!$A$11:$I$99,2,FALSE),"") | C17: =IFERROR(VLOOKUP($A17,Spieler!$A$11:$I$99,3,FALSE),"") | D17: =IF(B17="","",YEAR(B17)) | E17: =IFERROR(VLOOKUP($A17,Spieler!$A$11:$I$99,5,FALSE),"") | F17: =IFERROR(VLOOKUP($A17,Spieler!$A$11:$I$99,6,FALSE),"") | G17: =IFERROR(VLOOKUP($A17,Spieler!$A$11:$I$99,7,FALSE),"") | H17: =IFERROR(VLOOKUP($A17,Spieler!$A$11:$I$99,8,FALSE),"") | I17: =IFERROR(VLOOKUP($A17,Spieler!$A$11:$I$99,9,FALSE),"")
B18: =IFERROR(VLOOKUP($A18,Spieler!$A$11:$I$99,2,FALSE),"") | C18: =IFERROR(VLOOKUP($A18,Spieler!$A$11:$I$99,3,FALSE),"") | D18: =IF(B18="","",YEAR(B18)) | E18: =IFERROR(VLOOKUP($A18,Spieler!$A$11:$I$99,5,FALSE),"") | F18: =IFERROR(VLOOKUP($A18,Spieler!$A$11:$I$99,6,FALSE),"") | G18: =IFERROR(VLOOKUP($A18,Spieler!$A$11:$I$99,7,FALSE),"") | H18: =IFERROR(VLOOKUP($A18,Spieler!$A$11:$I$99,8,FALSE),"") | I18: =IFERROR(VLOOKUP($A18,Spieler!$A$11:$I$99,9,FALSE),"")
B19: =IFERROR(VLOOKUP($A19,Spieler!$A$11:$I$99,2,FALSE),"") | C19: =IFERROR(VLOOKUP($A19,Spieler!$A$11:$I$99,3,FALSE),"") | D19: =IF(B19="","",YEAR(B19)) | E19: =IFERROR(VLOOKUP($A19,Spieler!$A$11:$I$99,5,FALSE),"") | F19: =IFERROR(VLOOKUP($A19,Spieler!$A$11:$I$99,6,FALSE),"") | G19: =IFERROR(VLOOKUP($A19,Spieler!$A$11:$I$99,7,FALSE),"") | H19: =IFERROR(VLOOKUP($A19,Spieler!$A$11:$I$99,8,FALSE),"") | I19: =IFERROR(VLOOKUP($A19,Spieler!$A$11:$I$99,9,FALSE),"")
B20: =IFERROR(VLOOKUP($A20,Spieler!$A$11:$I$99,2,FALSE),"") | C20: =IFERROR(VLOOKUP($A20,Spieler!$A$11:$I$99,3,FALSE),"") | D20: =IF(B20="","",YEAR(B20)) | E20: =IFERROR(VLOOKUP($A20,Spieler!$A$11:$I$99,5,FALSE),"") | F20: =IFERROR(VLOOKUP($A20,Spieler!$A$11:$I$99,6,FALSE),"") | G20: =IFERROR(VLOOKUP($A20,Spieler!$A$11:$I$99,7,FALSE),"") | H20: =IFERROR(VLOOKUP($A20,Spieler!$A$11:$I$99,8,FALSE),"") | I20: =IFERROR(VLOOKUP($A20,Spieler!$A$11:$I$99,9,FALSE),"")
B21: =IFERROR(VLOOKUP($A21,Spieler!$A$11:$I$99,2,FALSE),"") | C21: =IFERROR(VLOOKUP($A21,Spieler!$A$11:$I$99,3,FALSE),"") | D21: =IF(B21="","",YEAR(B21)) | E21: =IFERROR(VLOOKUP($A21,Spieler!$A$11:$I$99,5,FALSE),"") | F21: =IFERROR(VLOOKUP($A21,Spieler!$A$11:$I$99,6,FALSE),"") | G21: =IFERROR(VLOOKUP($A21,Spieler!$A$11:$I$99,7,FALSE),"") | H21: =IFERROR(VLOOKUP($A21,Spieler!$A$11:$I$99,8,FALSE),"") | I21: =IFERROR(VLOOKUP($A21,Spieler!$A$11:$I$99,9,FALSE),"")
B22: =IFERROR(VLOOKUP($A22,Spieler!$A$11:$I$99,2,FALSE),"") | C22: =IFERROR(VLOOKUP($A22,Spieler!$A$11:$I$99,3,FALSE),"") | D22: =IF(B22="","",YEAR(B22)) | E22: =IFERROR(VLOOKUP($A22,Spieler!$A$11:$I$99,5,FALSE),"") | F22: =IFERROR(VLOOKUP($A22,Spieler!$A$11:$I$99,6,FALSE),"") | G22: =IFERROR(VLOOKUP($A22,Spieler!$A$11:$I$99,7,FALSE),"") | H22: =IFERROR(VLOOKUP($A22,Spieler!$A$11:$I$99,8,FALSE),"") | I22: =IFERROR(VLOOKUP($A22,Spieler!$A$11:$I$99,9,FALSE),"")
... B101: =IFERROR(VLOOKUP($A101,Spieler!$A$11:$I$99,2,FALSE),"") | C101: =IFERROR(VLOOKUP($A101,Spieler!$A$11:$I$99,3,FALSE),"") | D101: =IF(B101="","",YEAR(B101)) | E101: =IFERROR(VLOOKUP($A101,Spieler!$A$11:$I$99,5,FALSE),"") | F101: =IFERROR(VLOOKUP($A101,Spieler!$A$11:$I$99,6,FALSE),"") | G101: =IFERROR(VLOOKUP($A101,Spieler!$A$11:$I$99,7,FALSE),"") | H101: =IFERROR(VLOOKUP($A101,Spieler!$A$11:$I$99,8,FALSE),"") | I101: =IFERROR(VLOOKUP($A101,Spieler!$A$11:$I$99,9,FALSE),"")

Sheet Ergebnis 3.BNWL_2011_12
A7: Gesamtergebnis | B7: 3. BNWL 2011/12, 22. Jänner 2012, Neusiedl/See
A9: Name | B9: Geb. Datum | C9: Verein | D9: Geb. Jahr | E9: M/W | F9: Alters-klasse | G9: Gruppe 1.BNWL | H9: Rang in Gruppe | I9: Rang gesamt | J9: Gruppe 2. BNWL | K9: Vorrunde | L9: Rang in Gruppe | M9: Rang gesamt | N9: Gruppe 3.BNWL | O9: Vorrunde | P9: Rang in Gruppe | Q9: Rang Gesamt | R9: Gruppe 4. BNWL | S9: Rang in Gruppe | T9: Rang Gesamt | U9: Gruppe 1. BNWL | V9: Rang in Gruppe | W9: Rang Gesamt | X9: Gruppe 2. BNWL | Y9: Rang in Gruppe | Z9: Rang Gesamt | AA9: Gruppe 3. BNWL | AB9: Rang in Gruppe | AC9: Rang Gesamt | AD9: Gruppe 4.BNWL | AE9: Vorrunde | AF9: Rang in Gruppe | AG9: Rang Gesamt | AH9: Gruppe 1. BNWL | AI9: Vor-runde | AJ9: Rang in Gruppe | AK9: Rang Gesamt | AL9: Gruppe 2. BNWL | AM9: Rang in Gruppe | AN9: Rang Gesamt | AO9: Gruppe 3. BNWL | AP9: Vor-runde | AQ9: Rang in Gruppe | AR9: Rang Gesamt | AS9: Gruppe 4. BNWL | AT9: Rang in Gruppe | AU9: Rang Gesamt | AV9: Gruppe 2. BNWL | AW9: Rang in Gruppe | AX9: Rang Gesamt | AY9: auf/ab | AZ9: Gruppe 3.BNWL | BA9: Rang in Gruppe | BB9: Rang Gesamt
A10: Schedl Linda | B10: 34423 | C10: OBERP | D10: 1994 | E10: w | F10: J3 | AV10: 1 | AW10: 3 | AX10: 3 | AZ10: 1 | BA10: 1 | BB10: =BA10 -> 1
A11: Weis Michael | B11: 37160 | C11: NEUS | D11: 2001 | E11: m | F11: Mini | AV11: 1 | AW11: 4 | AX11: 4 | AZ11: 1 | BA11: 2 | BB11: =BA11 -> 2
A12: Zöchbauer Rene | B12: 35522 | C12: OBERP | D12: 1997 | E12: m | F12: Sch2 | AV12: 1 | AW12: NA | AX12: NA | AZ12: 1 | BA12: 3 | BB12: =BA12 -> 3
A13: Wallner Raphael | B13: 35209 | C13: OBERP | D13: 1996 | E13: m | F13: J1 | AV13: 1 | AW13: NA | AX13: NA | AZ13: 1 | BA13: 4 | BB13: =BA13 -> 4
A14: Sgiarovello Johannes | B14: 34665 | C14: OSCH | D14: 1994 | E14: m | F14: J3 | AV14: 1 | AW14: 2 | AX14: 2 | AZ14: 1 | BA14: 5 | BB14: =BA14 -> 5
A15: König Ella | B15: 36024 | C15: NEUS | D15: 1998 | E15: w | F15: Sch1 | AV15: 2 | AW15: 2 | AX15: 10 | AY15: auf | AZ15: 1 | BA15: 6 | BB15: =BA15 -> 6
A16: Enz Phillip | B16: 37097 | C16: NEUS | D16: 2001 | E16: m | F16: Mini | AV16: 1 | AW16: 5 | AX16: 5 | AZ16: 1 | BA16: 7 | BB16: =BA16 -> 7
A17: Frey Moritz | B17: 35498 | C17: OSCH | D17: 1997 | E17: m | F17: Sch2 | AV17: 2 | AW17: 1 | AX17: 9 | AY17: auf | AZ17: 1 | BA17: 8 | BB17: =BA17 -> 8
A18: Thury Tobias | B18: 36053 | C18: HALB | D18: 1998 | E18: m | F18: Sch1 | AV18: 1 | AW18: 7 | AX18: 7 | AY18: ab | AZ18: 2 | BA18: 1 | BB18: =8+BA18 -> 9
A19: Palatin Lena | B19: 36660 | C19: OBERP | D19: 2000 | E19: w | F19: Ust1 | AV19: 2 | AW19: 5 | AX19: 13 | AZ19: 2 | BA19: 2 | BB19: =8+BA19 -> 10
A20: Seper Michael | B20: 37204 | C20: OBERW | D20: 2001 | E20: m | F20: Mini | AV20: 2 | AW20: 7 | AX20: 15 | AY20: Nach 1 | AZ20: 2 | BA20: 3 | BB20: =8+BA20 -> 11
A21: Piff Philipp | B21: 36298 | C21: PINK | D21: 1999 | E21: m | F21: Ust2 | AV21: NA | AW21: NA | AX21: NA | AZ21: 2 | BA21: 4 | BB21: =8+BA21 -> 12
A22: Mohr Michael | B22: 36275 | C22: HORN | D22: 1999 | E22: M | F22: Ust2 | AV22: NA | AW22: NA | AX22: NA | AZ22: 2 | BA22: 5 | BB22: =8+BA22 -> 13
A23: Reiner Julian | B23: 36682 | C23: HALB | D23: 2000 | E23: M | F23: Ust1 | AV23: NA | AW23: NA | AX23: NA | AY23: Nach 5 | AZ23: 2 | BA23: 6 | BB23: =8+BA23 -> 14
A24: Posch Benjamin | B24: 36306 | C24: PINK | D24: 1999 | E24: m | F24: Ust2 | AV24: NA | AW24: NA | AX24: NA | AZ24: 2 | BA24: 7 | BB24: =8+BA24 -> 15
A25: Schedl Cedric | B25: 36144 | C25: WIMP | D25: 1998 | E25: m | F25: Sch1 | AV25: 3 | AW25: 6 | AX25: =+AW25+15 -> 21 | AY25: Nach 2 | AZ25: 2 | BA25: 8 | BB25: =8+BA25 -> 16
A26: Gollowitzer Helene | B26: 36894 | C26: HALB | D26: 2001 | E26: w | F26: Mini | AV26: 3 | AW26: 9 | AX26: 25 | AY26: Nach 3 | AZ26: 2 | BA26: 9 | BB26: =8+BA26 -> 17
A27: Strodl Kerstin | B27: 37784 | C27: OBERP | D27: 2003 | E27: w | F27: Mini | AV27: NA | AW27: NA | AX27: NA | AZ27: 2 | BA27: 10 | BB27: =8+BA27 -> 18
A28: Egger Julian | B28: 36625 | C28: NEUS | D28: 2000 | E28: m | F28: Ust1 | AV28: NA | AW28: NA | AX28: NA | AZ28: 2 | BA28: 11 | BB28: =8+BA28 -> 19
A29: Stampf Johannes | B29: 36903 | C29: STEINB | D29: 2001 | E29: m | F29: Mini | AZ29: 2 | BA29: 12 | BB29: =8+BA29 -> 20
A30: Baumrock Mateo | B30: 36845 | C30: STEINB | D30: 2000 | E30: m | F30: Ust1 | AV30: NA | AW30: NA | AX30: NA | AZ30: 2 | BA30: 13 | BB30: =8+BA30 -> 21
A31: Grabmaier Felix | B31: 36631 | C31: STEINB | D31: 2000 | E31: m | F31: Ust1 | AV31: NA | AW31: NA | AX31: NA | AZ31: 2 | BA31: 14 | BB31: =8+BA31 -> 22
A32: Pitzer Julian | B32: 36064 | C32: HALB | D32: 1998 | E32: m | F32: Sch1 | AV32: 3 | AW32: NA | AX32: NA | AY32: Nach 4 | AZ32: 2 | BA32: NA | BB32: NA
A33: Böhme Benjamin | B33: 35165 | C33: OBERP | D33: 1996 | E33: m | F33: J1 | AV33: 1 | AW33: 8 | AX33: 8 | AY33: ab | AZ33: 2 | BA33: NA | BB33: NA
A34: Sirowatka Simon | B34: 36988 | C34: STEINB | D34: 2001 | E34: m | F34: Mini | AV34: NA | AW34: NA | AX34: NA | AZ34: 2 | BA34: NA | BB34: NA

Sheet Spieler
A7: Spielerdaten
A9: Name | B9: Geburtsdatum | C9: Verein | D9: Geb. Jahr | E9: M/W | F9: Alters-klasse | G9: 1. BNWL 2015/2016
A10: (Nachname Vorname) | G10: Gruppe | H10: Platz | I10: Gesamt
A11: Gelbmann Michael | B11: 37700 | C11: HALB | D11: 2003 | E11: m | F11: =IF(D11>=Altersklassen!$A$4,VLOOKUP(D11,Altersklassen!$A$4:$B$19,2,TRUE),"") -> U2 | G11: NA | H11: NA | I11: NA
A12: Pitzer Julian | B12: 36064 | C12: HALB | D12: 1998 | E12: m | F12: =IF(D12>=Altersklassen!$A$4,VLOOKUP(D12,Altersklassen!$A$4:$B$19,2,TRUE),"") -> J3 | G12: NA | H12: NA | I12: NA
A13: Reiner Julian | B13: 36682 | C13: HALB | D13: 2000 | E13: m | F13: =IF(D13>=Altersklassen!$A$4,VLOOKUP(D13,Altersklassen!$A$4:$B$19,2,TRUE),"") -> J1 | G13: NA | H13: NA | I13: NA
A14: Thury Tobias | B14: 36053 | C14: HALB | D14: 1998 | E14: m | F14: =IF(D14>=Altersklassen!$A$4,VLOOKUP(D14,Altersklassen!$A$4:$B$19,2,TRUE),"") -> J3 | G14: NA | H14: NA | I14: NA
A15: Zinkl Jonas | B15: 38159 | C15: HALB | D15: 2004 | E15: m | F15: =IF(D15>=Altersklassen!$A$4,VLOOKUP(D15,Altersklassen!$A$4:$B$19,2,TRUE),"") -> U1 | G15: NA | H15: NA | I15: NA
A16: Mohr Michael | B16: 36275 | C16: HORN | D16: 1999 | E16: m | F16: =IF(D16>=Altersklassen!$A$4,VLOOKUP(D16,Altersklassen!$A$4:$B$19,2,TRUE),"") -> J2 | G16: NA | H16: NA | I16: NA
A17: Schebek Sven | B17: 35245 | C17: JOIS | D17: 1996 | E17: m | F17: =IF(D17>=Altersklassen!$A$4,VLOOKUP(D17,Altersklassen!$A$4:$B$19,2,TRUE),"") -> Jun2 | G17: NA | H17: NA | I17: NA
A18: Schmidts Vincent | B18: 34974 | C18: JOIS | D18: 1995 | E18: m | F18: =IF(D18>=Altersklassen!$A$4,VLOOKUP(D18,Altersklassen!$A$4:$B$19,2,TRUE),"") -> Jun3 | G18: NA | H18: NA | I18: NA
A19: Wein Mikail | B19: 36029 | C19: JOIS | D19: 1998 | E19: m | F19: =IF(D19>=Altersklassen!$A$4,VLOOKUP(D19,Altersklassen!$A$4:$B$19,2,TRUE),"") -> J3 | G19: NA | H19: NA | I19: NA
A20: Wein Samuel | B20: 38120 | C20: JOIS | D20: 2004 | E20: m | F20: =IF(D20>=Altersklassen!$A$4,VLOOKUP(D20,Altersklassen!$A$4:$B$19,2,TRUE),"") -> U1 | G20: NA | H20: NA | I20: NA
A21: Frantsich Emil | B21: 37665 | C21: KLEIN | D21: 2003 | E21: m | F21: =IF(D21>=Altersklassen!$A$4,VLOOKUP(D21,Altersklassen!$A$4:$B$19,2,TRUE),"") -> U2 | G21: NA | H21: NA | I21: NA
A22: Günther Lukas | B22: 37637 | C22: KLEIN | D22: 2003 | E22: m | F22: =IF(D22>=Altersklassen!$A$4,VLOOKUP(D22,Altersklassen!$A$4:$B$19,2,TRUE),"") -> U2 | G22: 1 | H22: 6 | I22: 6
A23: Steinprecher Philipp | B23: 37636 | C23: KLEIN | D23: 2003 | E23: m | F23: =IF(D23>=Altersklassen!$A$4,VLOOKUP(D23,Altersklassen!$A$4:$B$19,2,TRUE),"") -> U2 | G23: NA | H23: NA | I23: NA
A24: Janisch Gabriel | B24: 37566 | C24: MÖNC | D24: 2002 | E24: m | F24: =IF(D24>=Altersklassen!$A$4,VLOOKUP(D24,Altersklassen!$A$4:$B$19,2,TRUE),"") -> S1 | G24: NA | H24: NA | I24: NA
A25: Bacher Alina | B25: 37753 | C25: NEUS | D25: 2003 | E25: w | F25: =IF(D25>=Altersklassen!$A$4,VLOOKUP(D25,Altersklassen!$A$4:$B$19,2,TRUE),"") -> U2 | G25: NA | H25: NA | I25: NA
A26: Czako Denis | B26: 38180 | C26: NEUS | D26: 2004 | E26: m | F26: =IF(D26>=Altersklassen!$A$4,VLOOKUP(D26,Altersklassen!$A$4:$B$19,2,TRUE),"") -> U1 | G26: NA | H26: NA | I26: NA
A27: Enz Phillip | B27: 37097 | C27: NEUS | D27: 2001 | E27: m | F27: =IF(D27>=Altersklassen!$A$4,VLOOKUP(D27,Altersklassen!$A$4:$B$19,2,TRUE),"") -> S2 | G27: 1 | H27: 1 | I27: 1
A28: Gans Tobias | B28: 37334 | C28: NEUS | D28: 2002 | E28: m | F28: =IF(D28>=Altersklassen!$A$4,VLOOKUP(D28,Altersklassen!$A$4:$B$19,2,TRUE),"") -> S1 | G28: 1 | H28: 9 | I28: 9
A29: Hagenauer Julian | B29: 37836 | C29: NEUS | D29: 2003 | E29: m | F29: =IF(D29>=Altersklassen!$A$4,VLOOKUP(D29,Altersklassen!$A$4:$B$19,2,TRUE),"") -> U2 | G29: NA | H29: NA | I29: NA
A30: Harrer Sophie | B30: 37694 | C30: NEUS | D30: 2003 | E30: w | F30: =IF(D30>=Altersklassen!$A$4,VLOOKUP(D30,Altersklassen!$A$4:$B$19,2,TRUE),"") -> U2 | G30: NA | H30: NA | I30: NA
A31: Hofstetter Max | B31: 37893 | C31: NEUS | D31: 2003 | E31: m | F31: =IF(D31>=Altersklassen!$A$4,VLOOKUP(D31,Altersklassen!$A$4:$B$19,2,TRUE),"") -> U2 | G31: NA | H31: NA | I31: NA
A32: Hofstetter Moritz | B32: 37893 | C32: NEUS | D32: 2003 | E32: m | F32: =IF(D32>=Altersklassen!$A$4,VLOOKUP(D32,Altersklassen!$A$4:$B$19,2,TRUE),"") -> U2 | G32: NA | H32: NA | I32: NA
A33: Huber Katja | B33: 37558 | C33: NEUS | D33: 2002 | E33: w | F33: =IF(D33>=Altersklassen!$A$4,VLOOKUP(D33,Altersklassen!$A$4:$B$19,2,TRUE),"") -> S1 | G33: NA | H33: NA | I33: NA
A34: König Ella | B34: 36024 | C34: NEUS | D34: 1998 | E34: w | F34: =IF(D34>=Altersklassen!$A$4,VLOOKUP(D34,Altersklassen!$A$4:$B$19,2,TRUE),"") -> J3 | G34: NA | H34: NA | I34: NA
A35: Kreutzer Patrick | B35: 36392 | C35: NEUS | D35: 1999 | E35: m | F35: =IF(D35>=Altersklassen!$A$4,VLOOKUP(D35,Altersklassen!$A$4:$B$19,2,TRUE),"") -> J2 | G35: NA | H35: NA | I35: NA
A36: Nolz David | B36: 36953 | C36: NEUS | D36: 2001 | E36: m | F36: =IF(D36>=Altersklassen!$A$4,VLOOKUP(D36,Altersklassen!$A$4:$B$19,2,TRUE),"") -> S2 | G36: NA | H36: NA | I36: NA
A37: Reeh Conner | B37: 37741 | C37: NEUS | D37: 2003 | E37: m | F37: =IF(D37>=Altersklassen!$A$4,VLOOKUP(D37,Altersklassen!$A$4:$B$19,2,TRUE),"") -> U2 | G37: NA | H37: NA | I37: NA
A38: Szankovich Adam | B38: 36691 | C38: NEUS | D38: 2000 | E38: m | F38: =IF(D38>=Altersklassen!$A$4,VLOOKUP(D38,Altersklassen!$A$4:$B$19,2,TRUE),"") -> J1 | G38: NA | H38: NA | I38: NA
A39: Szankovich Sava | B39: 37877 | C39: NEUS | D39: 2003 | E39: w | F39: =IF(D39>=Altersklassen!$A$4,VLOOKUP(D39,Altersklassen!$A$4:$B$19,2,TRUE),"") -> U2 | G39: 1 | H39: 10 | I39: 10
A40: Tillhof Jakob | B40: 37880 | C40: NEUS | D40: 2003 | E40: m | F40: =IF(D40>=Altersklassen!$A$4,VLOOKUP(D40,Altersklassen!$A$4:$B$19,2,TRUE),"") -> U2 | G40: NA | H40: NA | I40: NA
A41: Tillhof Jonas | B41: 37261 | C41: NEUS | D41: 2002 | E41: m | F41: =IF(D41>=Altersklassen!$A$4,VLOOKUP(D41,Altersklassen!$A$4:$B$19,2,TRUE),"") -> S1 | G41: NA | H41: NA | I41: NA
A42: Bauer Lena | B42: 37786 | C42: OBERP | D42: 2003 | E42: w | F42: =IF(D42>=Altersklassen!$A$4,VLOOKUP(D42,Altersklassen!$A$4:$B$19,2,TRUE),"") -> U2 | G42: NA | H42: NA | I42: NA
A43: Böhme Benjamin | B43: 35165 | C43: OBERP | D43: 1996 | E43: m | F43: =IF(D43>=Altersklassen!$A$4,VLOOKUP(D43,Altersklassen!$A$4:$B$19,2,TRUE),"") -> Jun2 | G43: NA | H43: NA | I43: NA
A44: Fasching Elias | B44: 39085 | C44: OBERP | D44: 2007 | E44: m | F44: =IF(D44>=Altersklassen!$A$4,VLOOKUP(D44,Altersklassen!$A$4:$B$19,2,TRUE),"") -> Mini | G44: 1 | H44: 5 | I44: 5
A45: Gamperl Markus | B45: 36082 | C45: OBERP | D45: 1998 | E45: m | F45: =IF(D45>=Altersklassen!$A$4,VLOOKUP(D45,Altersklassen!$A$4:$B$19,2,TRUE),"") -> J3 | G45: NA | H45: NA | I45: NA
A46: Greifeneder Michael | B46: 37913 | C46: OBERP | D46: 2003 | E46: m | F46: =IF(D46>=Altersklassen!$A$4,VLOOKUP(D46,Altersklassen!$A$4:$B$19,2,TRUE),"") -> U2 | G46: NA | H46: NA | I46: NA
A47: Haas Nico | B47: 36588 | C47: OBERP | D47: 2000 | E47: m | F47: =IF(D47>=Altersklassen!$A$4,VLOOKUP(D47,Altersklassen!$A$4:$B$19,2,TRUE),"") -> J1 | G47: NA | H47: NA | I47: NA
A48: Hofer Andreas | B48: 38452 | C48: OBERP | D48: 2005 | E48: m | F48: =IF(D48>=Altersklassen!$A$4,VLOOKUP(D48,Altersklassen!$A$4:$B$19,2,TRUE),"") -> Mini | G48: NA | H48: NA | I48: NA
A49: Hofer Madlen | B49: 35648 | C49: OBERP | D49: 1997 | E49: w | F49: =IF(D49>=Altersklassen!$A$4,VLOOKUP(D49,Altersklassen!$A$4:$B$19,2,TRUE),"") -> Jun1 | G49: NA | H49: NA | I49: NA
A50: Huisbauer Matthäus | B50: 35683 | C50: OBERP | D50: 1997 | E50: m | F50: =IF(D50>=Altersklassen!$A$4,VLOOKUP(D50,Altersklassen!$A$4:$B$19,2,TRUE),"") -> Jun1 | G50: NA | H50: NA | I50: NA
A51: Koo Alexander | B51: 36615 | C51: OBERP | D51: 2000 | E51: m | F51: =IF(D51>=Altersklassen!$A$4,VLOOKUP(D51,Altersklassen!$A$4:$B$19,2,TRUE),"") -> J1 | G51: NA | H51: NA | I51: NA
A52: Palatin Lena | B52: 36660 | C52: OBERP | D52: 2000 | E52: w | F52: =IF(D52>=Altersklassen!$A$4,VLOOKUP(D52,Altersklassen!$A$4:$B$19,2,TRUE),"") -> J1 | G52: 1 | H52: 2 | I52: 2
A53: Patzelt Philipp | B53: 35716 | C53: OBERP | D53: 1997 | E53: m | F53: =IF(D53>=Altersklassen!$A$4,VLOOKUP(D53,Altersklassen!$A$4:$B$19,2,TRUE),"") -> Jun1 | G53: NA | H53: NA | I53: NA
A54: Pfneiszl Christoph | B54: 37536 | C54: OBERP | D54: 2002 | E54: m | F54: =IF(D54>=Altersklassen!$A$4,VLOOKUP(D54,Altersklassen!$A$4:$B$19,2,TRUE),"") -> S1 | G54: 1 | H54: 4 | I54: 4
A55: Stammer Kimi | B55: 38293 | C55: OBERP | D55: 2004 | E55: m | F55: =IF(D55>=Altersklassen!$A$4,VLOOKUP(D55,Altersklassen!$A$4:$B$19,2,TRUE),"") -> U1 | G55: NA | H55: NA | I55: NA
A56: Strodl Kerstin | B56: 37784 | C56: OBERP | D56: 2003 | E56: w | F56: =IF(D56>=Altersklassen!$A$4,VLOOKUP(D56,Altersklassen!$A$4:$B$19,2,TRUE),"") -> U2 | G56: NA | H56: NA | I56: NA
A57: Tajmel Nino | B57: 38660 | C57: OBERP | D57: 2005 | E57: m | F57: =IF(D57>=Altersklassen!$A$4,VLOOKUP(D57,Altersklassen!$A$4:$B$19,2,TRUE),"") -> Mini | G57: 1 | H57: 8 | I57: 8
A58: Taschner Marvin | B58: 36692 | C58: OBERP | D58: 2000 | E58: m | F58: =IF(D58>=Altersklassen!$A$4,VLOOKUP(D58,Altersklassen!$A$4:$B$19,2,TRUE),"") -> J1 | G58: NA | H58: NA | I58: NA
A59: Wallner Raphael | B59: 35209 | C59: OBERP | D59: 1996 | E59: m | F59: =IF(D59>=Altersklassen!$A$4,VLOOKUP(D59,Altersklassen!$A$4:$B$19,2,TRUE),"") -> Jun2 | G59: NA | H59: NA | I59: NA
A60: Zöchbauer Rene | B60: 35522 | C60: OBERP | D60: 1997 | E60: m | F60: =IF(D60>=Altersklassen!$A$4,VLOOKUP(D60,Altersklassen!$A$4:$B$19,2,TRUE),"") -> Jun1 | G60: NA | H60: NA | I60: NA
A61: Baliko Daniel | B61: 37033 | C61: OBERW | D61: 2001 | E61: m | F61: =IF(D61>=Altersklassen!$A$4,VLOOKUP(D61,Altersklassen!$A$4:$B$19,2,TRUE),"") -> S2 | G61: 1 | H61: 7 | I61: 7
A62: Brindlinger Florian | B62: 37455 | C62: OBERW | D62: 2002 | E62: m | F62: =IF(D62>=Altersklassen!$A$4,VLOOKUP(D62,Altersklassen!$A$4:$B$19,2,TRUE),"") -> S1 | G62: NA | H62: NA | I62: NA
A63: Gonzalez Mikel | B63: 37834 | C63: OBERW | D63: 2003 | E63: m | F63: =IF(D63>=Altersklassen!$A$4,VLOOKUP(D63,Altersklassen!$A$4:$B$19,2,TRUE),"") -> U2 | G63: NA | H63: NA | I63: NA
A64: Pathy Erwin | B64: 35759 | C64: OBERW | D64: 1997 | E64: m | F64: =IF(D64>=Altersklassen!$A$4,VLOOKUP(D64,Altersklassen!$A$4:$B$19,2,TRUE),"") -> Jun1 | G64: NA | H64: NA | I64: NA
A65: Seper Michael | B65: 37204 | C65: OBERW | D65: 2001 | E65: m | F65: =IF(D65>=Altersklassen!$A$4,VLOOKUP(D65,Altersklassen!$A$4:$B$19,2,TRUE),"") -> S2 | G65: 1 | H65: 3 | I65: 3
A66: Weninger Tobias | B66: 37616 | C66: OBERW | D66: 2002 | E66: m | F66: =IF(D66>=Altersklassen!$A$4,VLOOKUP(D66,Altersklassen!$A$4:$B$19,2,TRUE),"") -> S1 | G66: NA | H66: NA | I66: NA
A67: Fleck Vanessa | B67: 38834 | C67: OSCH | D67: 2006 | E67: w | F67: =IF(D67>=Altersklassen!$A$4,VLOOKUP(D67,Altersklassen!$A$4:$B$19,2,TRUE),"") -> Mini | G67: NA | H67: NA | I67: NA
A68: Frey Moritz | B68: 35498 | C68: OSCH | D68: 1997 | E68: m | F68: =IF(D68>=Altersklassen!$A$4,VLOOKUP(D68,Altersklassen!$A$4:$B$19,2,TRUE),"") -> Jun1 | G68: NA | H68: NA | I68: NA
A69: Graf Anna | B69: 38530 | C69: OSCH | D69: 2005 | E69: w | F69: =IF(D69>=Altersklassen!$A$4,VLOOKUP(D69,Altersklassen!$A$4:$B$19,2,TRUE),"") -> Mini | G69: NA | H69: NA | I69: NA
A70: Mujic Almedina | B70: 38977 | C70: OSCH | D70: 2006 | E70: w | F70: =IF(D70>=Altersklassen!$A$4,VLOOKUP(D70,Altersklassen!$A$4:$B$19,2,TRUE),"") -> Mini | G70: 1 | H70: 13 | I70: 13
A71: Murlasits Rosalie | B71: 38871 | C71: OSCH | D71: 2005 | E71: w | F71: =IF(D71>=Altersklassen!$A$4,VLOOKUP(D71,Altersklassen!$A$4:$B$19,2,TRUE),"") -> Mini | G71: 1 | H71: 12 | I71: 12
A72: Neubauer Hanna | B72: 38977 | C72: OSCH | D72: 2005 | E72: w | F72: =IF(D72>=Altersklassen!$A$4,VLOOKUP(D72,Altersklassen!$A$4:$B$19,2,TRUE),"") -> Mini | G72: NA | H72: NA | I72: NA
A73: Sylvestre Christoph | B73: 35922 | C73: OSCH | D73: 1998 | E73: m | F73: =IF(D73>=Altersklassen!$A$4,VLOOKUP(D73,Altersklassen!$A$4:$B$19,2,TRUE),"") -> J3 | G73: NA | H73: NA | I73: NA
A74: Karbun Daniel | B74: 36569 | C74: PINK | D74: 2000 | E74: m | F74: =IF(D74>=Altersklassen!$A$4,VLOOKUP(D74,Altersklassen!$A$4:$B$19,2,TRUE),"") -> J1 | G74: NA | H74: NA | I74: NA
A75: Posch Benjamin | B75: 36306 | C75: PINK | D75: 1999 | E75: m | F75: =IF(D75>=Altersklassen!$A$4,VLOOKUP(D75,Altersklassen!$A$4:$B$19,2,TRUE),"") -> J2 | G75: NA | H75: NA | I75: NA
A76: Salzger Andre | B76: 35157 | C76: PINK | D76: 1996 | E76: m | F76: =IF(D76>=Altersklassen!$A$4,VLOOKUP(D76,Altersklassen!$A$4:$B$19,2,TRUE),"") -> Jun2 | G76: NA | H76: NA | I76: NA
A77: Bader Michael | B77: 37604 | C77: STEINB | D77: 2002 | E77: m | F77: =IF(D77>=Altersklassen!$A$4,VLOOKUP(D77,Altersklassen!$A$4:$B$19,2,TRUE),"") -> S1 | G77: NA | H77: NA | I77: NA
A78: Brandl Nico | B78: 37587 | C78: STEINB | D78: 2002 | E78: m | F78: =IF(D78>=Altersklassen!$A$4,VLOOKUP(D78,Altersklassen!$A$4:$B$19,2,TRUE),"") -> S1 | G78: 1 | H78: 11 | I78: 11
A79: Frech Larissa | B79: 36858 | C79: STEINB | D79: 2000 | E79: w | F79: =IF(D79>=Altersklassen!$A$4,VLOOKUP(D79,Altersklassen!$A$4:$B$19,2,TRUE),"") -> J1 | G79: NA | H79: NA | I79: NA
A80: Frech Nadine | B80: 36172 | C80: STEINB | D80: 1999 | E80: w | F80: =IF(D80>=Altersklassen!$A$4,VLOOKUP(D80,Altersklassen!$A$4:$B$19,2,TRUE),"") -> J2 | G80: NA | H80: NA | I80: NA
A81: Grabmaier Felix | B81: 36631 | C81: STEINB | D81: 2000 | E81: m | F81: =IF(D81>=Altersklassen!$A$4,VLOOKUP(D81,Altersklassen!$A$4:$B$19,2,TRUE),"") -> J1 | G81: NA | H81: NA | I81: NA
A82: Hauser Alexandra | B82: 36895 | C82: STEINB | D82: 2001 | E82: w | F82: =IF(D82>=Altersklassen!$A$4,VLOOKUP(D82,Altersklassen!$A$4:$B$19,2,TRUE),"") -> S2 | G82: NA | H82: NA | I82: NA
A83: Heissler Tobias | B83: 37052 | C83: STEINB | D83: 2001 | E83: m | F83: =IF(D83>=Altersklassen!$A$4,VLOOKUP(D83,Altersklassen!$A$4:$B$19,2,TRUE),"") -> S2 | G83: NA | H83: NA | I83: NA
A84: Höfer Noah | B84: 37810 | C84: STEINB | D84: 2003 | E84: m | F84: =IF(D84>=Altersklassen!$A$4,VLOOKUP(D84,Altersklassen!$A$4:$B$19,2,TRUE),"") -> U2 | G84: NA | H84: NA | I84: NA
A85: Jucan Celine | B85: 36249 | C85: STEINB | D85: 1999 | E85: w | F85: =IF(D85>=Altersklassen!$A$4,VLOOKUP(D85,Altersklassen!$A$4:$B$19,2,TRUE),"") -> J2 | G85: NA | H85: NA | I85: NA
A86: Kern Manuel | B86: 37498 | C86: STEINB | D86: 2002 | E86: m | F86: =IF(D86>=Altersklassen!$A$4,VLOOKUP(D86,Altersklassen!$A$4:$B$19,2,TRUE),"") -> S1 | G86: NA | H86: NA | I86: NA
A87: Kohlmann Sara | B87: 36965 | C87: STEINB | D87: 2001 | E87: w | F87: =IF(D87>=Altersklassen!$A$4,VLOOKUP(D87,Altersklassen!$A$4:$B$19,2,TRUE),"") -> S2 | G87: NA | H87: NA | I87: NA
A88: Köllerer Kurt | B88: 36450 | C88: STEINB | D88: 1999 | E88: m | F88: =IF(D88>=Altersklassen!$A$4,VLOOKUP(D88,Altersklassen!$A$4:$B$19,2,TRUE),"") -> J2 | G88: NA | H88: NA | I88: NA
A89: Köllerer Markus | B89: 37006 | C89: STEINB | D89: 2001 | E89: m | F89: =IF(D89>=Altersklassen!$A$4,VLOOKUP(D89,Altersklassen!$A$4:$B$19,2,TRUE),"") -> S2 | G89: NA | H89: NA | I89: NA
A90: Mörk Simone | B90: 36402 | C90: STEINB | D90: 1999 | E90: w | F90: =IF(D90>=Altersklassen!$A$4,VLOOKUP(D90,Altersklassen!$A$4:$B$19,2,TRUE),"") -> J2 | G90: NA | H90: NA | I90: NA
... A99: Schedl Cederic | B99: 36144 | C99: WIMP | D99: 1998 | E99: m | F99: =IF(D99>=Altersklassen!$A$4,VLOOKUP(D99,Altersklassen!$A$4:$B$19,2,TRUE),"") -> J3 | G99: NA | H99: NA | I99: NA
F100: =IF(D100>=Altersklassen!$A$4,VLOOKUP(D100,Altersklassen!$A$4:$B$19,2,TRUE),"")
F101: =IF(D101>=Altersklassen!$A$4,VLOOKUP(D101,Altersklassen!$A$4:$B$19,2,TRUE),"")
F102: =IF(D102>=Altersklassen!$A$4,VLOOKUP(D102,Altersklassen!$A$4:$B$19,2,TRUE),"")
F103: =IF(D103>=Altersklassen!$A$4,VLOOKUP(D103,Altersklassen!$A$4:$B$19,2,TRUE),"")
F104: =IF(D104>=Altersklassen!$A$4,VLOOKUP(D104,Altersklassen!$A$4:$B$19,2,TRUE),"")
F105: =IF(D105>=Altersklassen!$A$4,VLOOKUP(D105,Altersklassen!$A$4:$B$19,2,TRUE),"")
F106: =IF(D106>=Altersklassen!$A$4,VLOOKUP(D106,Altersklassen!$A$4:$B$19,2,TRUE),"")
F107: =IF(D107>=Altersklassen!$A$4,VLOOKUP(D107,Altersklassen!$A$4:$B$19,2,TRUE),"")
F108: =IF(D108>=Altersklassen!$A$4,VLOOKUP(D108,Altersklassen!$A$4:$B$19,2,TRUE),"")
F109: =IF(D109>=Altersklassen!$A$4,VLOOKUP(D109,Altersklassen!$A$4:$B$19,2,TRUE),"")
F110: =IF(D110>=Altersklassen!$A$4,VLOOKUP(D110,Altersklassen!$A$4:$B$19,2,TRUE),"")
F111: =IF(D111>=Altersklassen!$A$4,VLOOKUP(D111,Altersklassen!$A$4:$B$19,2,TRUE),"")
... F199: =IF(D199>=Altersklassen!$A$4,VLOOKUP(D199,Altersklassen!$A$4:$B$19,2,TRUE),"")

Sheet Altersklassen
A4: 1995 | B4: Jun3
A5: 1996 | B5: Jun2
A6: 1997 | B6: Jun1
A7: 1998 | B7: J3
A8: 1999 | B8: J2
A9: 2000 | B9: J1
A10: 2001 | B10: S2
A11: 2002 | B11: S1
A12: 2003 | B12: U2
A13: 2004 | B13: U1
A14: 2005 | B14: Mini
A15: 2006 | B15: Mini
... A19: 2010 | B19: Mini
