Workbook

Sheet Nennformular 2.BNWL 2012-13
A7: Nennformular | B7: 2. BNWL 2012/2013 | BG7: 2. Dezember 2012, Oberwart
A9: Name | B9: Geb. Datum | C9: Verein | D9: Geb. Jahr | E9: M/W | F9: Alters-klasse | G9: Gruppe 1.BNWL | H9: Rang in Gruppe | I9: Rang gesamt | J9: Gruppe 2. BNWL | K9: Vorrunde | L9: Rang in Gruppe | M9: Rang gesamt | N9: Gruppe 3.BNWL | O9: Vorrunde | P9: Rang in Gruppe | Q9: Rang Gesamt | R9: Gruppe 4. BNWL | S9: Rang in Gruppe | T9: Rang Gesamt | U9: Gruppe 1. BNWL | V9: Rang in Gruppe | W9: Rang Gesamt | X9: Gruppe 2. BNWL | Y9: Rang in Gruppe | Z9: Rang Gesamt | AA9: Gruppe 3. BNWL | AB9: Rang in Gruppe | AC9: Rang Gesamt | AD9: Gruppe 4.BNWL | AE9: Vorrunde | AF9: Rang in Gruppe | AG9: Rang Gesamt | AH9: Gruppe 1. BNWL | AI9: Vor-runde | AJ9: Rang in Gruppe | AK9: Rang Gesamt | AL9: Gruppe 2. BNWL | AM9: Rang in Gruppe | AN9: Rang Gesamt | AO9: Gruppe 3. BNWL | AP9: Vor-runde | AQ9: Rang in Gruppe | AR9: Rang Gesamt | AS9: Gruppe 4. BNWL | AT9: Rang in Gruppe | AU9: Rang Gesamt | AV9: Gruppe 2. BNWL | AW9: Rang in Gruppe | AX9: Rang Gesamt | AY9: auf/ab | AZ9: Gruppe 3.BNWL | BA9: Rang in Gruppe | BB9: Rang Gesamt | BC9: auf/ab | BE9: Gruppe 4.BNWL 11/12 | BF9: Rang in Gruppe | BG9: Rang Gesamt
F10: =IF(D10>1990,BD10,"") | AZ10: NA | BA10: NA | BB10: NA | BD10: =VLOOKUP('Nennformular 2.BNWL 2012-13'!D10,[2]Altersklassen!$A$4:$B$19,2,1) -> #N/A
F11: =IF(D11>1990,BD11,"") | AZ11: 1 | BA11: 1 | BB11: 1 | BD11: =VLOOKUP('Nennformular 2.BNWL 2012-13'!D11,[2]Altersklassen!$A$4:$B$19,2,1) -> #N/A
F12: =IF(D12>1990,BD12,"") | AZ12: 1 | BA12: 3 | BB12: 3 | BD12: =VLOOKUP('Nennformular 2.BNWL 2012-13'!D12,[2]Altersklassen!$A$4:$B$19,2,1) -> #N/A
F13: =IF(D13>1990,BD13,"") | AZ13: 1 | BA13: 4 | BB13: 4 | BD13: =VLOOKUP('Nennformular 2.BNWL 2012-13'!D13,[2]Altersklassen!$A$4:$B$19,2,1) -> #N/A
F14: =IF(D14>1990,BD14,"") | AZ14: 1 | BA14: 5 | BB14: 5 | BD14: =VLOOKUP('Nennformular 2.BNWL 2012-13'!D14,[2]Altersklassen!$A$4:$B$19,2,1) -> #N/A
F15: =IF(D15>1990,BD15,"") | AZ15: 1 | BA15: 8 | BB15: 8 | BD15: =VLOOKUP('Nennformular 2.BNWL 2012-13'!D15,[2]Altersklassen!$A$4:$B$19,2,1) -> #N/A
F16: =IF(D16>1990,BD16,"") | AZ16: 2 | BA16: 2 | BB16: 10 | BC16: auf | BD16: =VLOOKUP('Nennformular 2.BNWL 2012-13'!D16,[2]Altersklassen!$A$4:$B$19,2,1) -> #N/A
F17: =IF(D17>1990,BD17,"") | AZ17: 2 | BA17: 3 | BB17: 11 | BC17: auf | BD17: =VLOOKUP('Nennformular 2.BNWL 2012-13'!D17,[2]Altersklassen!$A$4:$B$19,2,1) -> #N/A
F18: =IF(D18>1990,BD18,"") | BD18: =VLOOKUP('Nennformular 2.BNWL 2012-13'!D18,[2]Altersklassen!$A$4:$B$19,2,1) -> #N/A
F19: =IF(D19>1990,BD19,"") | AZ19: NA | BA19: NA | BB19: NA | BD19: =VLOOKUP('Nennformular 2.BNWL 2012-13'!D19,[2]Altersklassen!$A$4:$B$19,2,1) -> #N/A
F20: =IF(D20>1990,BD20,"") | AZ20: 2 | BA20: 5 | BB20: 13 | BD20: =VLOOKUP('Nennformular 2.BNWL 2012-13'!D20,[2]Altersklassen!$A$4:$B$19,2,1) -> #N/A
F21: =IF(D21>1990,BD21,"") | AZ21: NA | BA21: NA | BB21: NA | BD21: =VLOOKUP('Nennformular 2.BNWL 2012-13'!D21,[2]Altersklassen!$A$4:$B$19,2,1) -> #N/A
F22: =IF(D22>1990,BD22,"") | AZ22: 2 | BA22: 7 | BB22: 15 | BD22: =VLOOKUP('Nennformular 2.BNWL 2012-13'!D22,[2]Altersklassen!$A$4:$B$19,2,1) -> #N/A
F23: =IF(D23>1990,BD23,"") | AZ23: 2 | BA23: 10 | BB23: 18 | BD23: =VLOOKUP('Nennformular 2.BNWL 2012-13'!D23,[2]Altersklassen!$A$4:$B$19,2,1) -> #N/A
F24: =IF(D24>1990,BD24,"") | AZ24: NA | BA24: NA | BB24: NA | BD24: =VLOOKUP('Nennformular 2.BNWL 2012-13'!D24,[2]Altersklassen!$A$4:$B$19,2,1) -> #N/A
F25: =IF(D25>1990,BD25,"") | AZ25: NA | BA25: NA | BB25: NA | BD25: =VLOOKUP('Nennformular 2.BNWL 2012-13'!D25,[2]Altersklassen!$A$4:$B$19,2,1) -> #N/A
F26: =IF(D26>1990,BD26,"") | AZ26: 2 | BA26: 14 | BB26: 22 | BD26: =VLOOKUP('Nennformular 2.BNWL 2012-13'!D26,[2]Altersklassen!$A$4:$B$19,2,1) -> #N/A
F27: =IF(D27>1990,BD27,"") | AZ27: 2 | BA27: NA | BB27: NA | BD27: =VLOOKUP('Nennformular 2.BNWL 2012-13'!D27,[2]Altersklassen!$A$4:$B$19,2,1) -> #N/A
F28: =IF(D28>1990,BD28,"") | AZ28: NA | BA28: NA | BB28: NA | BD28: =VLOOKUP('Nennformular 2.BNWL 2012-13'!D28,[2]Altersklassen!$A$4:$B$19,2,1) -> #N/A
F29: =IF(D29>1990,BD29,"") | AZ29: NA | BA29: NA | BB29: NA | BD29: =VLOOKUP('Nennformular 2.BNWL 2012-13'!D29,[2]Altersklassen!$A$4:$B$19,2,1) -> #N/A
F30: =IF(D30>1990,BD30,"") | AZ30: NA | BA30: NA | BB30: NA | BD30: =VLOOKUP('Nennformular 2.BNWL 2012-13'!D30,[2]Altersklassen!$A$4:$B$19,2,1) -> #N/A
F31: =IF(D31>1990,BD31,"") | AZ31: 2 | BA31: 13 | BB31: 21 | BD31: =VLOOKUP('Nennformular 2.BNWL 2012-13'!D31,[2]Altersklassen!$A$4:$B$19,2,1) -> #N/A
F34: =IF(D34>1990,BD34,"") | BD34: =VLOOKUP('Nennformular 2.BNWL 2012-13'!D34,[2]Altersklassen!$A$4:$B$19,2,1) -> #N/A
F35: =IF(D35>1990,BD35,"") | BD35: =VLOOKUP('Nennformular 2.BNWL 2012-13'!D35,[2]Altersklassen!$A$4:$B$19,2,1) -> #N/A
F36: =IF(D36>1990,BD36,"") | BD36: =VLOOKUP('Nennformular 2.BNWL 2012-13'!D36,[2]Altersklassen!$A$4:$B$19,2,1) -> #N/A
F37: =IF(D37>1990,BD37,"") | BD37: =VLOOKUP('Nennformular 2.BNWL 2012-13'!D37,[2]Altersklassen!$A$4:$B$19,2,1) -> #N/A
F38: =IF(D38>1990,BD38,"") | BD38: =VLOOKUP('Nennformular 2.BNWL 2012-13'!D38,[2]Altersklassen!$A$4:$B$19,2,1) -> #N/A

Sheet Ergebnis 1.BNWL 2012-13
A7: Ergebnis | B7: 1. BNWL 2012/2013 | J7: 14.Oktober 2012, Oberpullendorf
A9: Name | B9: Geb. Datum | C9: Verein | D9: Geb. Jahr | E9: M/W | F9: Alters-klasse | H9: Gruppe | I9: Platz in Gruppe | J9: Platz Gesamt
A10: Schmidt Florian | B10: 33675 | C10: OBERP | D10: 1992 | E10: m | F10: =IF(D10>1990,G10,"") -> Jun3 | G10: =VLOOKUP('Ergebnis 1.BNWL 2012-13'!D10,Altersklassen!$A$4:$B$19,2,1) -> Jun3 | H10: 1 | I10: 1 | J10: 1
A11: Patzelt Philipp | B11: 35716 | C11: OBERP | D11: 1997 | E11: m | F11: =IF(D11>1990,G11,"") -> J1 | G11: =VLOOKUP('Ergebnis 1.BNWL 2012-13'!D11,Altersklassen!$A$4:$B$19,2,1) -> J1 | H11: 1 | I11: 2 | J11: 2
A12: Weis Michael | B12: 37160 | C12: JOIS | D12: 2001 | E12: m | F12: =IF(D12>1990,G12,"") -> U1 | G12: =VLOOKUP('Ergebnis 1.BNWL 2012-13'!D12,Altersklassen!$A$4:$B$19,2,1) -> U1 | H12: 1 | I12: 3 | J12: 3
A13: Wallner Raphael | B13: 35209 | C13: OBERP | D13: 1996 | E13: m | F13: =IF(D13>1990,G13,"") -> J2 | G13: =VLOOKUP('Ergebnis 1.BNWL 2012-13'!D13,Altersklassen!$A$4:$B$19,2,1) -> J2 | H13: 1 | I13: 4 | J13: 4
A14: Schedl Linda | B14: 34423 | C14: OBERP | D14: 1994 | E14: w | F14: =IF(D14>1990,G14,"") -> Jun1 | G14: =VLOOKUP('Ergebnis 1.BNWL 2012-13'!D14,Altersklassen!$A$4:$B$19,2,1) -> Jun1 | H14: 1 | I14: 5 | J14: 5
A15: Zöchbauer Rene | B15: 35522 | C15: OBERP | D15: 1997 | E15: m | F15: =IF(D15>1990,G15,"") -> J1 | G15: =VLOOKUP('Ergebnis 1.BNWL 2012-13'!D15,Altersklassen!$A$4:$B$19,2,1) -> J1 | H15: 1 | I15: 6 | J15: 6
A16: Sgiarovello Johannes | B16: 34665 | C16: OSCH | D16: 1994 | E16: m | F16: =IF(D16>1990,G16,"") -> Jun1 | G16: =VLOOKUP('Ergebnis 1.BNWL 2012-13'!D16,Altersklassen!$A$4:$B$19,2,1) -> Jun1 | H16: 1 | I16: 7 | J16: 7
A17: Frey Moritz | B17: 35498 | C17: OSCH | D17: 1997 | E17: m | F17: =IF(D17>1990,G17,"") -> J1 | G17: =VLOOKUP('Ergebnis 1.BNWL 2012-13'!D17,Altersklassen!$A$4:$B$19,2,1) -> J1 | H17: 1 | I17: 8 | J17: 8
A18: Huisbauer Matthäus | B18: 35683 | C18: OBERP | D18: 1997 | E18: m | F18: =IF(D18>1990,G18,"") -> J1 | G18: =VLOOKUP('Ergebnis 1.BNWL 2012-13'!D18,Altersklassen!$A$4:$B$19,2,1) -> J1 | H18: 2 | I18: 1 | J18: 9
A19: Thury Tobias | B19: 36053 | C19: HALB | D19: 1998 | E19: m | F19: =IF(D19>1990,G19,"") -> S2 | G19: =VLOOKUP('Ergebnis 1.BNWL 2012-13'!D19,Altersklassen!$A$4:$B$19,2,1) -> S2 | H19: 2 | I19: 2 | J19: 10
A20: Enz Phillip | B20: 37097 | C20: NEUS | D20: 2001 | E20: m | F20: =IF(D20>1990,G20,"") -> U1 | G20: =VLOOKUP('Ergebnis 1.BNWL 2012-13'!D20,Altersklassen!$A$4:$B$19,2,1) -> U1 | H20: 2 | I20: 3 | J20: 11
A21: König Ella | B21: 36024 | C21: NEUS | D21: 1998 | E21: w | F21: =IF(D21>1990,G21,"") -> S2 | G21: =VLOOKUP('Ergebnis 1.BNWL 2012-13'!D21,Altersklassen!$A$4:$B$19,2,1) -> S2 | H21: 2 | I21: 4 | J21: 12
... A26: Pfneiszl Christoph | B26: 37536 | C26: OBERP | D26: 2002 | E26: m | F26: =IF(D26>1990,G26,"") -> Mini | G26: =VLOOKUP('Ergebnis 1.BNWL 2012-13'!D26,Altersklassen!$A$4:$B$19,2,1) -> Mini | H26: 2 | I26: 9 | J26: 17
A27: Schebek Sven | C27: JOIS | D27: 1996 | E27: m | F27: =IF(D27>1990,G27,"") -> J2 | G27: =VLOOKUP('Ergebnis 1.BNWL 2012-13'!D27,Altersklassen!$A$4:$B$19,2,1) -> J2 | H27: 3b | I27: 1 | J27: 18
A28: Wein Mikail | C28: JOIS | D28: 1998 | E28: m | F28: =IF(D28>1990,G28,"") -> S2 | G28: =VLOOKUP('Ergebnis 1.BNWL 2012-13'!D28,Altersklassen!$A$4:$B$19,2,1) -> S2 | H28: 3d | I28: 2 | J28: 19
A29: Reiner Julian | B29: 36682 | C29: HALB | D29: 2000 | E29: m | F29: =IF(D29>1990,G29,"") -> U2 | G29: =VLOOKUP('Ergebnis 1.BNWL 2012-13'!D29,Altersklassen!$A$4:$B$19,2,1) -> U2 | H29: 3c | I29: 3 | J29: 20
A30: Köllerer Kurt | B30: 36450 | C30: STEINB | D30: 1999 | E30: m | F30: =IF(D30>1990,G30,"") -> S1 | G30: =VLOOKUP('Ergebnis 1.BNWL 2012-13'!D30,Altersklassen!$A$4:$B$19,2,1) -> S1 | H30: 3a | I30: 4 | J30: 21
A31: Voith Marco | B31: 37376 | C31: STEINB | D31: 2002 | E31: m | F31: =IF(D31>1990,G31,"") -> Mini | G31: =VLOOKUP('Ergebnis 1.BNWL 2012-13'!D31,Altersklassen!$A$4:$B$19,2,1) -> Mini | H31: 3d | I31: 5 | J31: 22
A32: Baliko Daniel | B32: 37033 | C32: OBERW | D32: 2001 | E32: m | F32: =IF(D32>1990,G32,"") -> U1 | G32: =VLOOKUP('Ergebnis 1.BNWL 2012-13'!D32,Altersklassen!$A$4:$B$19,2,1) -> U1 | H32: 3a | I32: 6 | J32: 23
A33: Strodl Kerstin | B33: 37784 | C33: OBERP | D33: 2003 | E33: w | F33: =IF(D33>1990,G33,"") -> Mini | G33: =VLOOKUP('Ergebnis 1.BNWL 2012-13'!D33,Altersklassen!$A$4:$B$19,2,1) -> Mini | H33: 3b | I33: 7 | J33: 24
A34: Grabmaier Felix | B34: 36631 | C34: STEINB | D34: 2000 | E34: m | F34: =IF(D34>1990,G34,"") -> U2 | G34: =VLOOKUP('Ergebnis 1.BNWL 2012-13'!D34,Altersklassen!$A$4:$B$19,2,1) -> U2 | H34: 3c | I34: 8 | J34: 25
A35: Voith Manuel | B35: 36433 | C35: STEINB | D35: 1999 | E35: m | F35: =IF(D35>1990,G35,"") -> S1 | G35: =VLOOKUP('Ergebnis 1.BNWL 2012-13'!D35,Altersklassen!$A$4:$B$19,2,1) -> S1 | H35: 3a | I35: 9 | J35: 26
A36: Schedl Cedric | B36: 36144 | C36: WIMP | D36: 1998 | E36: m | F36: =IF(D36>1990,G36,"") -> S2 | G36: =VLOOKUP('Ergebnis 1.BNWL 2012-13'!D36,Altersklassen!$A$4:$B$19,2,1) -> S2 | H36: 3b | I36: 10 | J36: 27
A37: Sirowatka Simon | B37: 36988 | C37: STEINB | D37: 2001 | E37: m | F37: =IF(D37>1990,G37,"") -> U1 | G37: =VLOOKUP('Ergebnis 1.BNWL 2012-13'!D37,Altersklassen!$A$4:$B$19,2,1) -> U1 | H37: 3d | I37: 11 | J37: 28
A38: Windisch Julia | B38: 36834 | C38: STEINB | D38: 2000 | E38: w | F38: =IF(D38>1990,G38,"") -> U2 | G38: =VLOOKUP('Ergebnis 1.BNWL 2012-13'!D38,Altersklassen!$A$4:$B$19,2,1) -> U2 | H38: 3c | I38: 12 | J38: 29
A39: Posch Benjamin | B39: 36306 | C39: PINK | D39: 1999 | E39: m | F39: =IF(D39>1990,G39,"") -> S1 | G39: =VLOOKUP('Ergebnis 1.BNWL 2012-13'!D39,Altersklassen!$A$4:$B$19,2,1) -> S1 | H39: 3d | I39: 13 | J39: 30
A40: Hofer Madlen | B40: 35648 | C40: OBERP | D40: 1997 | E40: w | F40: =IF(D40>1990,G40,"") -> J1 | G40: =VLOOKUP('Ergebnis 1.BNWL 2012-13'!D40,Altersklassen!$A$4:$B$19,2,1) -> J1 | H40: 3a | I40: 14 | J40: 31
... A46: Treiber Luca | B46: 37486 | C46: STEINB | D46: 2002 | E46: m | F46: =IF(D46>1990,G46,"") -> Mini | G46: =VLOOKUP('Ergebnis 1.BNWL 2012-13'!D46,Altersklassen!$A$4:$B$19,2,1) -> Mini | H46: 3d | I46: 20 | J46: 36
F47: =IF(D47>1990,G47,"") | G47: =VLOOKUP('Ergebnis 1.BNWL 2012-13'!D47,Altersklassen!$A$4:$B$19,2,1) -> #N/A
F48: =IF(D48>1990,G48,"") | G48: =VLOOKUP('Ergebnis 1.BNWL 2012-13'!D48,Altersklassen!$A$4:$B$19,2,1) -> #N/A
F49: =IF(D49>1990,G49,"") | G49: =VLOOKUP('Ergebnis 1.BNWL 2012-13'!D49,Altersklassen!$A$4:$B$19,2,1) -> #N/A
G50: =VLOOKUP('Ergebnis 1.BNWL 2012-13'!D50,Altersklassen!$A$4:$B$19,2,1) -> #N/A
G51: =VLOOKUP('Ergebnis 1.BNWL 2012-13'!D51,Altersklassen!$A$4:$B$19,2,1) -> #N/A
G52: =VLOOKUP('Ergebnis 1.BNWL 2012-13'!D52,Altersklassen!$A$4:$B$19,2,1) -> #N/A
G53: =VLOOKUP('Ergebnis 1.BNWL 2012-13'!D53,Altersklassen!$A$4:$B$19,2,1) -> #N/A
G54: =VLOOKUP('Ergebnis 1.BNWL 2012-13'!D54,Altersklassen!$A$4:$B$19,2,1) -> #N/A
G55: =VLOOKUP('Ergebnis 1.BNWL 2012-13'!D55,Altersklassen!$A$4:$B$19,2,1) -> #N/A
G56: =VLOOKUP('Ergebnis 1.BNWL 2012-13'!D56,Altersklassen!$A$4:$B$19,2,1) -> #N/A
...

Sheet Ergebnis 4.BNWL_2011_12
A7: Ergebnisse | B7: 4. BNWL 2011/12, 17. Juni 2012, Oberwart
A9: Name | B9: Geb. Datum | C9: Verein | D9: Geb. Jahr | E9: M/W | F9: Alters-klasse | G9: Gruppe 1.BNWL | H9: Rang in Gruppe | I9: Rang gesamt | J9: Gruppe 2. BNWL | K9: Vorrunde | L9: Rang in Gruppe | M9: Rang gesamt | N9: Gruppe 3.BNWL | O9: Vorrunde | P9: Rang in Gruppe | Q9: Rang Gesamt | R9: Gruppe 4. BNWL | S9: Rang in Gruppe | T9: Rang Gesamt | U9: Gruppe 1. BNWL | V9: Rang in Gruppe | W9: Rang Gesamt | X9: Gruppe 2. BNWL | Y9: Rang in Gruppe | Z9: Rang Gesamt | AA9: Gruppe 3. BNWL | AB9: Rang in Gruppe | AC9: Rang Gesamt | AD9: Gruppe 4.BNWL | AE9: Vorrunde | AF9: Rang in Gruppe | AG9: Rang Gesamt | AH9: Gruppe 1. BNWL | AI9: Vor-runde | AJ9: Rang in Gruppe | AK9: Rang Gesamt | AL9: Gruppe 2. BNWL | AM9: Rang in Gruppe | AN9: Rang Gesamt | AO9: Gruppe 3. BNWL | AP9: Vor-runde | AQ9: Rang in Gruppe | AR9: Rang Gesamt | AS9: Gruppe 4. BNWL | AT9: Rang in Gruppe | AU9: Rang Gesamt | AV9: Gruppe 2. BNWL | AW9: Rang in Gruppe | AX9: Rang Gesamt | AY9: auf/ab | AZ9: Gruppe 3.BNWL | BA9: Rang in Gruppe | BB9: Rang Gesamt | BC9: auf/ab | BE9: Gruppe 4.BNWL | BF9: Rang in Gruppe | BG9: Rang Gesamt
A10: Patzelt Philipp | B10: 35716 | C10: OBERP | D10: 1997 | E10: m | F10: =IF(D10>1990,BD10,"") -> J1 | AZ10: NA | BA10: NA | BB10: NA | BD10: =VLOOKUP('Ergebnis 4.BNWL_2011_12'!D10,Altersklassen!$A$4:$B$19,2,1) -> J1 | BE10: 1 | BF10: 1 | BG10: =(BE10-1)*9+BF10 -> 1
A11: Schedl Linda | B11: 34423 | C11: OBERP | D11: 1994 | E11: w | F11: =IF(D11>1990,BD11,"") -> Jun1 | AZ11: 1 | BA11: 1 | BB11: 1 | BD11: =VLOOKUP('Ergebnis 4.BNWL_2011_12'!D11,Altersklassen!$A$4:$B$19,2,1) -> Jun1 | BE11: 1 | BF11: 2 | BG11: =(BE11-1)*9+BF11 -> 2
A12: Zöchbauer Rene | B12: 35522 | C12: OBERP | D12: 1997 | E12: m | F12: =IF(D12>1990,BD12,"") -> J1 | AZ12: 1 | BA12: 3 | BB12: 3 | BD12: =VLOOKUP('Ergebnis 4.BNWL_2011_12'!D12,Altersklassen!$A$4:$B$19,2,1) -> J1 | BE12: 1 | BF12: 3 | BG12: =(BE12-1)*9+BF12 -> 3
A13: Wallner Raphael | B13: 35209 | C13: OBERP | D13: 1996 | E13: m | F13: =IF(D13>1990,BD13,"") -> J2 | AZ13: 1 | BA13: 4 | BB13: 4 | BD13: =VLOOKUP('Ergebnis 4.BNWL_2011_12'!D13,Altersklassen!$A$4:$B$19,2,1) -> J2 | BE13: 1 | BF13: 4 | BG13: =(BE13-1)*9+BF13 -> 4
A14: Sgiarovello Johannes | B14: 34665 | C14: OSCH | D14: 1994 | E14: m | F14: =IF(D14>1990,BD14,"") -> Jun1 | AZ14: 1 | BA14: 5 | BB14: 5 | BD14: =VLOOKUP('Ergebnis 4.BNWL_2011_12'!D14,Altersklassen!$A$4:$B$19,2,1) -> Jun1 | BE14: 1 | BF14: 5 | BG14: =(BE14-1)*9+BF14 -> 5
A15: Frey Moritz | B15: 35498 | C15: OSCH | D15: 1997 | E15: m | F15: =IF(D15>1990,BD15,"") -> J1 | AZ15: 1 | BA15: 8 | BB15: 8 | BD15: =VLOOKUP('Ergebnis 4.BNWL_2011_12'!D15,Altersklassen!$A$4:$B$19,2,1) -> J1 | BE15: 1 | BF15: 6 | BG15: =(BE15-1)*9+BF15 -> 6
A16: Palatin Lena | B16: 36660 | C16: OBERP | D16: 2000 | E16: w | F16: =IF(D16>1990,BD16,"") -> U2 | AZ16: 2 | BA16: 2 | BB16: 10 | BC16: auf | BD16: =VLOOKUP('Ergebnis 4.BNWL_2011_12'!D16,Altersklassen!$A$4:$B$19,2,1) -> U2 | BE16: 1 | BF16: 7 | BG16: =(BE16-1)*9+BF16 -> 7
A17: Seper Michael | B17: 37204 | C17: OBERW | D17: 2001 | E17: m | F17: =IF(D17>1990,BD17,"") -> U1 | AZ17: 2 | BA17: 3 | BB17: 11 | BC17: auf | BD17: =VLOOKUP('Ergebnis 4.BNWL_2011_12'!D17,Altersklassen!$A$4:$B$19,2,1) -> U1 | BE17: 1 | BF17: 8 | BG17: =(BE17-1)*9+BF17 -> 8
A18: Pfneiszl Christoph | B18: 37536 | C18: OBERP | D18: 2002 | E18: m | F18: =IF(D18>1990,BD18,"") -> Mini | BD18: =VLOOKUP('Ergebnis 4.BNWL_2011_12'!D18,Altersklassen!$A$4:$B$19,2,1) -> Mini | BE18: 1 | BF18: 9 | BG18: =(BE18-1)*9+BF18 -> 9
A19: Koo Alexander | B19: 36615 | C19: OBERP | D19: 2000 | E19: m | F19: =IF(D19>1990,BD19,"") -> U2 | AZ19: NA | BA19: NA | BB19: NA | BD19: =VLOOKUP('Ergebnis 4.BNWL_2011_12'!D19,Altersklassen!$A$4:$B$19,2,1) -> U2 | BE19: 2 | BF19: 1 | BG19: =(BE19-1)*9+BF19 -> 10
A20: Mohr Michael | B20: 36275 | C20: HORN | D20: 1999 | E20: m | F20: =IF(D20>1990,BD20,"") -> S1 | AZ20: 2 | BA20: 5 | BB20: 13 | BD20: =VLOOKUP('Ergebnis 4.BNWL_2011_12'!D20,Altersklassen!$A$4:$B$19,2,1) -> S1 | BE20: 2 | BF20: 2 | BG20: =(BE20-1)*9+BF20 -> 11
A21: Kerschbaum Julian | B21: 36131 | C21: STOOB | D21: 1998 | E21: m | F21: =IF(D21>1990,BD21,"") -> S2 | AZ21: NA | BA21: NA | BB21: NA | BD21: =VLOOKUP('Ergebnis 4.BNWL_2011_12'!D21,Altersklassen!$A$4:$B$19,2,1) -> S2 | BE21: 2 | BF21: 3 | BG21: =(BE21-1)*9+BF21 -> 12
A22: Posch Benjamin | B22: 36306 | C22: PINK | D22: 1999 | E22: m | F22: =IF(D22>1990,BD22,"") -> S1 | AZ22: 2 | BA22: 7 | BB22: 15 | BD22: =VLOOKUP('Ergebnis 4.BNWL_2011_12'!D22,Altersklassen!$A$4:$B$19,2,1) -> S1 | BE22: 2 | BF22: 4 | BG22: =(BE22-1)*9+BF22 -> 13
A23: Strodl Kerstin | B23: 37784 | C23: OBERP | D23: 2003 | E23: w | F23: =IF(D23>1990,BD23,"") -> Mini | AZ23: 2 | BA23: 10 | BB23: 18 | BD23: =VLOOKUP('Ergebnis 4.BNWL_2011_12'!D23,Altersklassen!$A$4:$B$19,2,1) -> Mini | BE23: 2 | BF23: 5 | BG23: =(BE23-1)*9+BF23 -> 14
A24: Willig Maximilian | B24: 37603 | C24: OBERP | D24: 2002 | E24: m | F24: =IF(D24>1990,BD24,"") -> Mini | AZ24: NA | BA24: NA | BB24: NA | BD24: =VLOOKUP('Ergebnis 4.BNWL_2011_12'!D24,Altersklassen!$A$4:$B$19,2,1) -> Mini | BE24: 2 | BF24: 6 | BG24: =(BE24-1)*9+BF24 -> 15
A25: Rami Aurelio | B25: 37883 | C25: STOOB | D25: 2003 | E25: m | F25: =IF(D25>1990,BD25,"") -> Mini | AZ25: NA | BA25: NA | BB25: NA | BD25: =VLOOKUP('Ergebnis 4.BNWL_2011_12'!D25,Altersklassen!$A$4:$B$19,2,1) -> Mini | BE25: 2 | BF25: 7 | BG25: =(BE25-1)*9+BF25 -> 16
A26: Grabmaier Felix | B26: 36631 | C26: STEINB | D26: 2000 | E26: m | F26: =IF(D26>1990,BD26,"") -> U2 | AZ26: 2 | BA26: 14 | BB26: 22 | BD26: =VLOOKUP('Ergebnis 4.BNWL_2011_12'!D26,Altersklassen!$A$4:$B$19,2,1) -> U2 | BE26: 2 | BF26: 8 | BG26: =(BE26-1)*9+BF26 -> 17
A27: Sirowatka Simon | B27: 36988 | C27: STEINB | D27: 2001 | E27: m | F27: =IF(D27>1990,BD27,"") -> U1 | AZ27: 2 | BA27: NA | BB27: NA | BD27: =VLOOKUP('Ergebnis 4.BNWL_2011_12'!D27,Altersklassen!$A$4:$B$19,2,1) -> U1 | BE27: 2 | BF27: 9 | BG27: =(BE27-1)*9+BF27 -> 18
A28: Garstenauer Gerhard | B28: 37530 | C28: OBERP | D28: 2002 | E28: m | F28: =IF(D28>1990,BD28,"") -> Mini | AZ28: NA | BA28: NA | BB28: NA | BD28: =VLOOKUP('Ergebnis 4.BNWL_2011_12'!D28,Altersklassen!$A$4:$B$19,2,1) -> Mini | BE28: 2 | BF28: 10 | BG28: =(BE28-1)*9+BF28 -> 19
A29: Taschner Marvin | B29: 36692 | C29: STOOB | D29: 2000 | E29: m | F29: =IF(D29>1990,BD29,"") -> U2 | AZ29: NA | BA29: NA | BB29: NA | BD29: =VLOOKUP('Ergebnis 4.BNWL_2011_12'!D29,Altersklassen!$A$4:$B$19,2,1) -> U2 | BE29: 1 | BF29: NA | BG29: NA
A30: Baliko Daniel | B30: 37033 | C30: OBERW | D30: 2001 | E30: m | F30: =IF(D30>1990,BD30,"") -> U1 | AZ30: NA | BA30: NA | BB30: NA | BD30: =VLOOKUP('Ergebnis 4.BNWL_2011_12'!D30,Altersklassen!$A$4:$B$19,2,1) -> U1 | BE30: 2 | BF30: NA | BG30: NA
A31: Baumrock Mateo | B31: 36845 | C31: STEINB | D31: 2000 | E31: m | F31: =IF(D31>1990,BD31,"") -> U2 | AZ31: 2 | BA31: 13 | BB31: 21 | BD31: =VLOOKUP('Ergebnis 4.BNWL_2011_12'!D31,Altersklassen!$A$4:$B$19,2,1) -> U2 | BE31: 2 | BF31: NA | BG31: NA
F34: =IF(D34>1990,BD34,"") | BD34: =VLOOKUP('Ergebnis 4.BNWL_2011_12'!D34,Altersklassen!$A$4:$B$19,2,1) -> #N/A
F35: =IF(D35>1990,BD35,"") | BD35: =VLOOKUP('Ergebnis 4.BNWL_2011_12'!D35,Altersklassen!$A$4:$B$19,2,1) -> #N/A
F36: =IF(D36>1990,BD36,"") | BD36: =VLOOKUP('Ergebnis 4.BNWL_2011_12'!D36,Altersklassen!$A$4:$B$19,2,1) -> #N/A
F37: =IF(D37>1990,BD37,"") | BD37: =VLOOKUP('Ergebnis 4.BNWL_2011_12'!D37,Altersklassen!$A$4:$B$19,2,1) -> #N/A
F38: =IF(D38>1990,BD38,"") | BD38: =VLOOKUP('Ergebnis 4.BNWL_2011_12'!D38,Altersklassen!$A$4:$B$19,2,1) -> #N/A

Sheet Ergebnis 3.BNWL_2011_12
A7: Gesamtergebnis | B7: 3. BNWL 2011/12, 22. Jänner 2012, Neusiedl/See
A9: Name | B9: Geb. Datum | C9: Verein | D9: Geb. Jahr | E9: M/W | F9: Alters-klasse | G9: Gruppe 1.BNWL | H9: Rang in Gruppe | I9: Rang gesamt | J9: Gruppe 2. BNWL | K9: Vorrunde | L9: Rang in Gruppe | M9: Rang gesamt | N9: Gruppe 3.BNWL | O9: Vorrunde | P9: Rang in Gruppe | Q9: Rang Gesamt | R9: Gruppe 4. BNWL | S9: Rang in Gruppe | T9: Rang Gesamt | U9: Gruppe 1. BNWL | V9: Rang in Gruppe | W9: Rang Gesamt | X9: Gruppe 2. BNWL | Y9: Rang in Gruppe | Z9: Rang Gesamt | AA9: Gruppe 3. BNWL | AB9: Rang in Gruppe | AC9: Rang Gesamt | AD9: Gruppe 4.BNWL | AE9: Vorrunde | AF9: Rang in Gruppe | AG9: Rang Gesamt | AH9: Gruppe 1. BNWL | AI9: Vor-runde | AJ9: Rang in Gruppe | AK9: Rang Gesamt | AL9: Gruppe 2. BNWL | AM9: Rang in Gruppe | AN9: Rang Gesamt | AO9: Gruppe 3. BNWL | AP9: Vor-runde | AQ9: Rang in Gruppe | AR9: Rang Gesamt | AS9: Gruppe 4. BNWL | AT9: Rang in Gruppe | AU9: Rang Gesamt | AV9: Gruppe 2. BNWL | AW9: Rang in Gruppe | AX9: Rang Gesamt | AY9: auf/ab | AZ9: Gruppe 3.BNWL | BA9: Rang in Gruppe | BB9: Rang Gesamt
A10: Schedl Linda | B10: 34423 | C10: OBERP | D10: 1994 | E10: w | F10: =VLOOKUP(D10,[1]Altersklassen!$A$5:$B$19,2,0) -> J3 | AV10: 1 | AW10: 3 | AX10: 3 | AZ10: 1 | BA10: 1 | BB10: =BA10 -> 1
A11: Weis Michael | B11: 37160 | C11: NEUS | D11: 2001 | E11: m | F11: =VLOOKUP(D11,[1]Altersklassen!$A$5:$B$19,2,0) -> Mini | AV11: 1 | AW11: 4 | AX11: 4 | AZ11: 1 | BA11: 2 | BB11: =BA11 -> 2
A12: Zöchbauer Rene | B12: 35522 | C12: OBERP | D12: 1997 | E12: m | F12: =VLOOKUP(D12,[1]Altersklassen!$A$5:$B$19,2,0) -> Sch2 | AV12: 1 | AW12: NA | AX12: NA | AZ12: 1 | BA12: 3 | BB12: =BA12 -> 3
A13: Wallner Raphael | B13: 35209 | C13: OBERP | D13: 1996 | E13: m | F13: =VLOOKUP(D13,[1]Altersklassen!$A$5:$B$19,2,0) -> J1 | AV13: 1 | AW13: NA | AX13: NA | AZ13: 1 | BA13: 4 | BB13: =BA13 -> 4
A14: Sgiarovello Johannes | B14: 34665 | C14: OSCH | D14: 1994 | E14: m | F14: =VLOOKUP(D14,[1]Altersklassen!$A$5:$B$19,2,0) -> J3 | AV14: 1 | AW14: 2 | AX14: 2 | AZ14: 1 | BA14: 5 | BB14: =BA14 -> 5
A15: König Ella | B15: 36024 | C15: NEUS | D15: 1998 | E15: w | F15: =VLOOKUP(D15,[1]Altersklassen!$A$5:$B$19,2,0) -> Sch1 | AV15: 2 | AW15: 2 | AX15: 10 | AY15: auf | AZ15: 1 | BA15: 6 | BB15: =BA15 -> 6
A16: Enz Phillip | B16: 37097 | C16: NEUS | D16: 2001 | E16: m | F16: =VLOOKUP(D16,[1]Altersklassen!$A$5:$B$19,2,0) -> Mini | AV16: 1 | AW16: 5 | AX16: 5 | AZ16: 1 | BA16: 7 | BB16: =BA16 -> 7
A17: Frey Moritz | B17: 35498 | C17: OSCH | D17: 1997 | E17: m | F17: =VLOOKUP(D17,[1]Altersklassen!$A$5:$B$19,2,0) -> Sch2 | AV17: 2 | AW17: 1 | AX17: 9 | AY17: auf | AZ17: 1 | BA17: 8 | BB17: =BA17 -> 8
A18: Thury Tobias | B18: 36053 | C18: HALB | D18: 1998 | E18: m | F18: =VLOOKUP(D18,[1]Altersklassen!$A$5:$B$19,2,0) -> Sch1 | AV18: 1 | AW18: 7 | AX18: 7 | AY18: ab | AZ18: 2 | BA18: 1 | BB18: =8+BA18 -> 9
A19: Palatin Lena | B19: 36660 | C19: OBERP | D19: 2000 | E19: w | F19: =VLOOKUP(D19,[1]Altersklassen!$A$5:$B$19,2,0) -> Ust1 | AV19: 2 | AW19: 5 | AX19: 13 | AZ19: 2 | BA19: 2 | BB19: =8+BA19 -> 10
A20: Seper Michael | B20: 37204 | C20: OBERW | D20: 2001 | E20: m | F20: =VLOOKUP(D20,[1]Altersklassen!$A$5:$B$19,2,0) -> Mini | AV20: 2 | AW20: 7 | AX20: 15 | AY20: Nach 1 | AZ20: 2 | BA20: 3 | BB20: =8+BA20 -> 11
A21: Piff Philipp | B21: 36298 | C21: PINK | D21: 1999 | E21: m | F21: =VLOOKUP(D21,[1]Altersklassen!$A$5:$B$19,2,0) -> Ust2 | AV21: NA | AW21: NA | AX21: NA | AZ21: 2 | BA21: 4 | BB21: =8+BA21 -> 12
A22: Mohr Michael | B22: 36275 | C22: HORN | D22: 1999 | E22: M | F22: =VLOOKUP(D22,[1]Altersklassen!$A$5:$B$19,2,0) -> Ust2 | AV22: NA | AW22: NA | AX22: NA | AZ22: 2 | BA22: 5 | BB22: =8+BA22 -> 13
A23: Reiner Julian | B23: 36682 | C23: HALB | D23: 2000 | E23: M | F23: =VLOOKUP(D23,[1]Altersklassen!$A$5:$B$19,2,0) -> Ust1 | AV23: NA | AW23: NA | AX23: NA | AY23: Nach 5 | AZ23: 2 | BA23: 6 | BB23: =8+BA23 -> 14
A24: Posch Benjamin | B24: 36306 | C24: PINK | D24: 1999 | E24: m | F24: =VLOOKUP(D24,[1]Altersklassen!$A$5:$B$19,2,0) -> Ust2 | AV24: NA | AW24: NA | AX24: NA | AZ24: 2 | BA24: 7 | BB24: =8+BA24 -> 15
A25: Schedl Cedric | B25: 36144 | C25: WIMP | D25: 1998 | E25: m | F25: =VLOOKUP(D25,[1]Altersklassen!$A$5:$B$19,2,0) -> Sch1 | AV25: 3 | AW25: 6 | AX25: =+AW25+15 -> 21 | AY25: Nach 2 | AZ25: 2 | BA25: 8 | BB25: =8+BA25 -> 16
A26: Gollowitzer Helene | B26: 36894 | C26: HALB | D26: 2001 | E26: w | F26: =VLOOKUP(D26,[1]Altersklassen!$A$5:$B$19,2,0) -> Mini | AV26: 3 | AW26: 9 | AX26: 25 | AY26: Nach 3 | AZ26: 2 | BA26: 9 | BB26: =8+BA26 -> 17
A27: Strodl Kerstin | B27: 37784 | C27: OBERP | D27: 2003 | E27: w | F27: =VLOOKUP(D27,[1]Altersklassen!$A$5:$B$19,2,0) -> Mini | AV27: NA | AW27: NA | AX27: NA | AZ27: 2 | BA27: 10 | BB27: =8+BA27 -> 18
A28: Egger Julian | B28: 36625 | C28: NEUS | D28: 2000 | E28: m | F28: =VLOOKUP(D28,[1]Altersklassen!$A$5:$B$19,2,0) -> Ust1 | AV28: NA | AW28: NA | AX28: NA | AZ28: 2 | BA28: 11 | BB28: =8+BA28 -> 19
A29: Stampf Johannes | B29: 36903 | C29: STEINB | D29: 2001 | E29: m | F29: =VLOOKUP(D29,[1]Altersklassen!$A$5:$B$19,2,0) -> Mini | AZ29: 2 | BA29: 12 | BB29: =8+BA29 -> 20
A30: Baumrock Mateo | B30: 36845 | C30: STEINB | D30: 2000 | E30: m | F30: =VLOOKUP(D30,[1]Altersklassen!$A$5:$B$19,2,0) -> Ust1 | AV30: NA | AW30: NA | AX30: NA | AZ30: 2 | BA30: 13 | BB30: =8+BA30 -> 21
A31: Grabmaier Felix | B31: 36631 | C31: STEINB | D31: 2000 | E31: m | F31: =VLOOKUP(D31,[1]Altersklassen!$A$5:$B$19,2,0) -> Ust1 | AV31: NA | AW31: NA | AX31: NA | AZ31: 2 | BA31: 14 | BB31: =8+BA31 -> 22
A32: Pitzer Julian | B32: 36064 | C32: HALB | D32: 1998 | E32: m | F32: =VLOOKUP(D32,[1]Altersklassen!$A$5:$B$19,2,0) -> Sch1 | AV32: 3 | AW32: NA | AX32: NA | AY32: Nach 4 | AZ32: 2 | BA32: NA | BB32: NA
A33: Böhme Benjamin | B33: 35165 | C33: OBERP | D33: 1996 | E33: m | F33: =VLOOKUP(D33,[1]Altersklassen!$A$5:$B$19,2,0) -> J1 | AV33: 1 | AW33: 8 | AX33: 8 | AY33: ab | AZ33: 2 | BA33: NA | BB33: NA
A34: Sirowatka Simon | B34: 36988 | C34: STEINB | D34: 2001 | E34: m | F34: =VLOOKUP(D34,[1]Altersklassen!$A$5:$B$19,2,0) -> Mini | AV34: NA | AW34: NA | AX34: NA | AZ34: 2 | BA34: NA | BB34: NA

Sheet Altersklassen
A4: 1992 | B4: Jun3
A5: 1993 | B5: Jun2
A6: 1994 | B6: Jun1
A7: 1995 | B7: J3
A8: 1996 | B8: J2
A9: 1997 | B9: J1
A10: 1998 | B10: S2
A11: 1999 | B11: S1
A12: 2000 | B12: U2
A13: 2001 | B13: U1
A14: 2002 | B14: Mini
A15: 2003 | B15: Mini
... A19: 2007 | B19: Mini
